BEGIN:VCALENDAR
VERSION:2.0
PRODID:-//wp-events-plugin.com//6.6.3//EN
TZID:Europe/Berlin
X-WR-TIMEZONE:Europe/Berlin
BEGIN:VEVENT
UID:759@mpoint.biz
DTSTART;TZID=Europe/Berlin:20230613T150000
DTEND;TZID=Europe/Berlin:20230613T163000
DTSTAMP:20240701T124737Z
URL:https://mpoint.biz/events/zusammenhaenge-digitaler-wertschaetzungskett
 en/
SUMMARY:Zusammenhänge digitaler Wertschätzungsketten
DESCRIPTION:Bei diesem Webinar der Commerzbank  erfährst Du von Digitalis
 ierungs- und Innovationsexperte Dr. Marc Thom\, wie Du aktuelle Digitalisi
 erungs-Hindernisse in Deinen Wertschöpfungsketten aus dem Weg räumst und
  welche Vorteile Dir daraus entstehen.\nDu erhältst durch Marc Thom Einbl
 ick in die die Zusammenhänge zwischen der Internet Economy und digitalen 
 Wertschöpfungsketten. Er bringt Makrotrends und Technologien zusammen und
  eröffnet Perspektiven für neue Geschäftsmodelle. Im Fokus seiner Vortr
 äge stehen vor allem die Gesundheitsindustrie\, Verkehr und Logistik\, da
 s Finanz- und Versicherungswesen\, das Metaverse\, Social Commerce\, Web 3
 .0 und die Blockchain.\nDer Digitalisierungs- und Innovationsexperte Dr. M
 arc Thom hat bei SONY nicht nur erstaunlich schnell und steil Karriere gem
 acht\, sondern er hat dafür auch einen ungewöhnlichen Hintergrund.\nDurc
 h seine Expertise und sein Wissen gibt Thom denjenigen\, die in ihren Unte
 rnehmen für Strategie\, Innovation\, Finance oder Business / Corporate De
 velopment verantwortlich sind einen mehrwertigen Abend im kurzweiligen Tal
 k-Format.\nDer Titel der Veranstaltung lautet: “Digitale Wertschöpfungs
 ketten"!\nFür die Teilnahme an diesem Event ist eine Anmeldung auf dem M-
 POINT Unternehmerportal NICHT ausreichend.\nVielmehr ist es unbedingt erfo
 rderlich\, die Anmeldung beim Veranstalter direkt vorzunehmen.\nDen Anmeld
 eprozess findest Du hier !
ATTACH;FMTTYPE=image/jpeg:https://mpoint.biz/wp-content/uploads/2024/07/M_
 POINT_Kooperation-Ausschnitt-auf-600-px_1000-×-800-px_-2-1-1.webp
END:VEVENT
BEGIN:VTIMEZONE
TZID:Europe/Berlin
X-LIC-LOCATION:Europe/Berlin
BEGIN:DAYLIGHT
DTSTART:20230326T030000
TZOFFSETFROM:+0100
TZOFFSETTO:+0200
TZNAME:CEST
END:DAYLIGHT
END:VTIMEZONE
END:VCALENDAR