BEGIN:VCALENDAR
VERSION:2.0
PRODID:-//wp-events-plugin.com//6.6.3//EN
TZID:Europe/Berlin
X-WR-TIMEZONE:Europe/Berlin
BEGIN:VEVENT
UID:594@mpoint.biz
DTSTART;TZID=Europe/Berlin:20210616T193000
DTEND;TZID=Europe/Berlin:20210617T203000
DTSTAMP:20240701T124335Z
URL:https://mpoint.biz/events/workshop-von-der-letzten-reihe-ins-wichtigse
 in/
SUMMARY:workshop: Von der letzten Reihe ins "WICHTIGSEIN"
DESCRIPTION:VON DER LETZTEN REIHE INS WICHTIGSEIN!\n\n!Wie Du Deine eigenen
  Bedürfnisse aus der Schublade holst!\n\n-&gt\; Ist Situation: Du lässt 
 Dein Leben gerade Revue passieren und irgendwie fällt Dir auf\, dass Du d
 arin kaum noch vorkommst. Alle anderen\, nur Du nicht.\n\nKommt Dir sicher
  bekannt vor\, top im Job\, im Privatleben. Das macht stolz auf die erbrac
 hte "Leistung". Sowie Du Ruhe hast\, wird Dein Bauch aber immer vehementer
 \, gezielt auf Dich zu achten.\n\nZeit\, etwas für Dich zu tun.\n\nZeit\,
  DICH WICHTIG ZU NEHMEN!\n\nDer WORKSHOP hilft Dir dabei\, Dir Deines Wert
 es wieder bewusst zu werden und Dich in den Mittelpunkt DEINES Lebens zu s
 tellen. Du verinnerlichst Dein "WICHTIGSEIN" und hast somit die innere Fre
 iheit\, dem zu folgen und das zu tun\, was Dir entspricht und Dein Leben b
 ereichert. Was und wie DU es möchtest!\n\nDer WORKSHOP findet im Zoom Cal
 l statt.                                           
                                  Mittwoch\, 16.6. und Don
 nerstag\, 17.6. Jeweils von 19.30 - 20.30 Uhr.                  
                   Den Link erhaltet Ihr über meine email Adresse
 : kathrin@ihr-seelenraum.de                    oder Ihr schreibt
  mir hier eine Nachricht.\n\n&nbsp\;\n\nIch freue mich sehr.\n\nHerzliche 
 Grüße                                            
                                                  
                                  Kathrin B. Ziemann\n\n&nb
 sp\;\n\n&nbsp\;\n\n&nbsp\;
ATTACH;FMTTYPE=image/jpeg:https://mpoint.biz/wp-content/uploads/2024/07/16
 .17.6.-1.png
END:VEVENT
BEGIN:VTIMEZONE
TZID:Europe/Berlin
X-LIC-LOCATION:Europe/Berlin
BEGIN:DAYLIGHT
DTSTART:20210328T030000
TZOFFSETFROM:+0100
TZOFFSETTO:+0200
TZNAME:CEST
END:DAYLIGHT
END:VTIMEZONE
END:VCALENDAR