BEGIN:VCALENDAR
VERSION:2.0
PRODID:-//wp-events-plugin.com//6.6.3//EN
TZID:Europe/Berlin
X-WR-TIMEZONE:Europe/Berlin
BEGIN:VEVENT
UID:1190@mpoint.biz
DTSTART;TZID=Europe/Berlin:20230125T090000
DTEND;TZID=Europe/Berlin:20230125T100000
DTSTAMP:20250108T152417Z
URL:https://mpoint.biz/events/wohlfuehlen-mit-der-krypto-steuer/
SUMMARY:Wohlfühlen mit der Krypto-Steuer
DESCRIPTION:Event der Gruppe "Gemeinsam zum Wohlfühleinkommen"\n  Gudrun
  Dara Müller\, Heilpraktikerin\nPraxis Selbstheilungsberatung\nerzählt\
 , welchen Weg sie für sich gefunden hat\, mit den steuerlichen Änderunge
 n im Krypto-Bereich in 2022 ihren Frieden zu finden.\n\n 	Welche Fragen ha
 be ich mir gestellt?\n 	Welche Antworten habe ich darauf gefunden?\n 	Welc
 he Entscheidungen habe ich getroffen?\n 	Welche Fragen sind bei dir noch o
 ffen\, für die du dir Antworten wünschst\, so dass du dich mit einem gut
 en Gefühl für deine Antwort entscheiden kannst?\n\nTeilnahme\nDie Teilna
 hme ist kostenfrei möglich.\n\nTeilnehmer können diesem Zoom-Meeting von
  einem Computer\, Tablet oder Smartphone aus beitreten:\n\nhttps://us02web
 .zoom.us/j/89869106533?pwd=TEtrMGE2NllSTjNhem4wK0hLNHREQT09\n\nMeeting-ID:
  898 6910 6533\nKenncode: 111\n\nDas Event wird aufgezeichnet.\nWer die Au
 fzeichnung sehen möchte\, erhält den Link von seinem Mentor des Studienn
 etzwerks.
ATTACH;FMTTYPE=image/jpeg:https://mpoint.biz/wp-content/uploads/2024/07/ap
 ple-589640_640.webp
CATEGORIES:Mitglied
END:VEVENT
BEGIN:VTIMEZONE
TZID:Europe/Berlin
X-LIC-LOCATION:Europe/Berlin
BEGIN:STANDARD
DTSTART:20221030T020000
TZOFFSETFROM:+0200
TZOFFSETTO:+0100
TZNAME:CET
END:STANDARD
END:VTIMEZONE
END:VCALENDAR