BEGIN:VCALENDAR
VERSION:2.0
PRODID:-//wp-events-plugin.com//6.6.3//EN
TZID:Europe/Berlin
X-WR-TIMEZONE:Europe/Berlin
BEGIN:VEVENT
UID:1433@mpoint.biz
DTSTART;TZID=Europe/Berlin:20240321T183000
DTEND;TZID=Europe/Berlin:20240321T200000
DTSTAMP:20250108T152452Z
URL:https://mpoint.biz/events/wertvolle-impulse-fuer-dein-business-3-3/
SUMMARY:Wertvolle Impulse für Dein Business!
DESCRIPTION:Die M-POINT Businessrunden: Effektives Zeitmanagement!\n\nIn un
 seren exklusiven Businessrunden tauchen wir regelmäßig in hochrelevante 
 Themen ein. Mit nur 6 Teilnehmern pro Runde garantieren wir einen intensiv
 en Austausch\, der jeden einzelnen Teilnehmer maximal bereichert.\n\nSei d
 abei und entdecke die Schlüssel zum effektiven Zeitmanagement!\n\nEffekti
 vität bedeutet\, die richtigen Dinge zu tun. Effizienz heißt\, die Dinge
  richtig zu tun. Unser CAPPUCCINO-QUADRANT® wird Dich auf dem Weg zu mehr
  Effektivität begleiten. Er zeigt Dir\, was wirklich wichtig ist\, was dr
 ingend erledigt werden muss und was Du getrost ignorieren kannst.\n\nIn ei
 ner Welt\, in der die Zeit knapp und die Tage kurz sind\, bieten wir wertv
 olle Einblicke\, damit Du immer weißt\, was als Nächstes zu tun ist. Den
 n darum geht es letztlich!\n\nSei Teil dieses erhellenden Austauschs\, tau
 che ein in inspirierende Impulse und erlebe\, wie gemeinsame Diskussionen 
 und innovative Gedanken Deinen Weg zum unternehmerischen Erfolg unterstüt
 zen können!\n\nComing Next: Netzwerken\, aber richtig...mit dem M-POINT 3
  P-PRINZIP®
ATTACH;FMTTYPE=image/jpeg:https://mpoint.biz/wp-content/uploads/2024/07/Bu
 siness-Runden-Ausschnitt-auf-600-px_1000-×-800-px_.webp
CATEGORIES:M-POINT
LOCATION:Islandpferdehof Seppensen\, Zum Mühlenteich 7\, Buchholz i. d. No
 rdheide\, 21244\, 
GEO:53.2992133;9.876959100000022
X-APPLE-STRUCTURED-LOCATION;VALUE=URI;X-ADDRESS=Zum Mühlenteich 7\, Buchho
 lz i. d. Nordheide\, 21244\, ;X-APPLE-RADIUS=100;X-TITLE=Islandpferdehof S
 eppensen:geo:53.2992133,9.876959100000022
END:VEVENT
BEGIN:VTIMEZONE
TZID:Europe/Berlin
X-LIC-LOCATION:Europe/Berlin
BEGIN:STANDARD
DTSTART:20231029T020000
TZOFFSETFROM:+0200
TZOFFSETTO:+0100
TZNAME:CET
END:STANDARD
END:VTIMEZONE
END:VCALENDAR