BEGIN:VCALENDAR
VERSION:2.0
PRODID:-//wp-events-plugin.com//6.6.3//EN
TZID:Europe/Berlin
X-WR-TIMEZONE:Europe/Berlin
BEGIN:VEVENT
UID:947@mpoint.biz
DTSTART;TZID=Europe/Berlin:20220427T190000
DTEND;TZID=Europe/Berlin:20220427T200000
DTSTAMP:20250108T152358Z
URL:https://mpoint.biz/events/welche-alternative-gibt-es-zu-den-hohen-kost
 en-der-krankenversicherung/
SUMMARY:Welche Alternative gibt es zu den hohen Kosten der Krankenversicher
 ung?
DESCRIPTION:Gerade beim Start fragen sich aktuell viele Selbständige\, wie
  sie die hohen Kosten der Krankenversicherung bezahlen sollen\, da sie in 
 den ersten Monaten noch nicht die Gewinne dafür haben.\n\nEs gibt auch vi
 ele\, die sich fragen\, wieso sie das zahlen sollen\, da sie im Krankheits
 fall doch lieber zum Heilpraktiker oder Privatarzt gehen und die Dienstlei
 stungen der Krankenkasse nicht vorhaben zu nutzen.\n\nEtwas "nicht wollen"
  ist einfach und eine der Hauptursachen für Diabetes\, Krebs und viele an
 dere Krankheiten.\nWenn du in dem Muster drin bleiben willst\, dann ist es
  besser\, wenn du die Beiträge bezahlst.\nEs ist dann deine Investition i
 n die Zukunft.\n\nMit denjenigen die fragen wollen: "Was ist sonst noch m
 öglich?"\ntreffe ich mich am Mittwoch um 19 Uhr online per Zoom zum Brain
 storming.\nModeration\n  Gudrun Dara Müller\, Lebensfreudeberaterin (He
 ilpraktikerin)\nPraxis Selbstheilungsberatung\nGründerin des Studiennetzw
 erks für integrative Medizin\nTeilnahme\nDie Teilnahme ist kostenfrei mö
 glich.\n\nTeilnehmer können diesem Zoom-Meeting von einem Computer\, Tabl
 et oder Smartphone aus beitreten:\n\nhttps://us02web.zoom.us/j/88685034937
 ?pwd=Vy82YWtaY3p4UkRjVS8ycTZsbmNWZz09\n\nMeeting-ID: 886 8503 4937\nKennco
 de: 21042022
ATTACH;FMTTYPE=image/jpeg:https://mpoint.biz/wp-content/uploads/2024/07/ic
 h-will-4.webp
CATEGORIES:Mitglied
END:VEVENT
BEGIN:VTIMEZONE
TZID:Europe/Berlin
X-LIC-LOCATION:Europe/Berlin
BEGIN:DAYLIGHT
DTSTART:20220327T030000
TZOFFSETFROM:+0100
TZOFFSETTO:+0200
TZNAME:CEST
END:DAYLIGHT
END:VTIMEZONE
END:VCALENDAR