BEGIN:VCALENDAR
VERSION:2.0
PRODID:-//wp-events-plugin.com//6.6.3//EN
TZID:Europe/Berlin
X-WR-TIMEZONE:Europe/Berlin
BEGIN:VEVENT
UID:751@mpoint.biz
DTSTART;TZID=Europe/Berlin:20230425T123000
DTEND;TZID=Europe/Berlin:20230425T170000
DTSTAMP:20240701T124728Z
URL:https://mpoint.biz/events/wehacksales-2023-sales-ai-networking-event/
SUMMARY:#WeHackSales 2023 - SALES AI NETWORKING EVENT
DESCRIPTION:am 25. April 2023 findet unser #WeHackSales - AI Sales Summit &
 amp\; Networking Event in Hamburg statt.\n\n#WeHackSales 2023 - SALES AI N
 ETWORKING EVENT\n\nDas AI und Sales Tech Startup Dealcode möchte die KI- 
 und Vertriebsszene in Deutschland näher zusammenbringen\, um innovative I
 deen und Projekte zu fördern. Dazu organisiert das Startup ein Networking
 -Event\, das die Möglichkeit bietet\, tiefer in den Einsatz von KI im Ver
 trieb einzutauchen und zu erfahren\, wie sich diese Technologie auf die Br
 anche auswirkt.\n\nDetails zur Veranstaltung:\n\nDatum: 25. April 2023\nZe
 it: 12:30 - 17:00 Uhr\nOrt: BZ - Business Center Hamburg\nEintrittspreis: 
 19\,00 EUR\n\nAuf der Veranstaltung erwarten die Teilnehmer/innen:\n\n 	He
 rvorragende 1:1 Networking-Möglichkeiten\n 	Neue Kontakte im Bereich Vert
 rieb und AI\n 	Neues Innovationspotential für dein Business\n 	Leckere Sn
 acks und Getränke\n 	Atemberaubende Aussicht auf den Hamburger Hafen\n\nA
 nmeldung: https://www.dealcode.ai/events/wehacksales
ATTACH;FMTTYPE=image/jpeg:https://mpoint.biz/wp-content/uploads/2024/07/Un
 benannt.webp
LOCATION:new party venue\, Unley\, Amstelveen\, 2001\, 
GEO:-34.95;138.60000000000002
X-APPLE-STRUCTURED-LOCATION;VALUE=URI;X-ADDRESS=Unley\, Amstelveen\, 2001\,
  ;X-APPLE-RADIUS=100;X-TITLE=new party venue:geo:-34.95,138.60000000000002
END:VEVENT
BEGIN:VTIMEZONE
TZID:Europe/Berlin
X-LIC-LOCATION:Europe/Berlin
BEGIN:DAYLIGHT
DTSTART:20230326T030000
TZOFFSETFROM:+0100
TZOFFSETTO:+0200
TZNAME:CEST
END:DAYLIGHT
END:VTIMEZONE
END:VCALENDAR