BEGIN:VCALENDAR
VERSION:2.0
PRODID:-//wp-events-plugin.com//6.6.3//EN
TZID:Europe/Berlin
X-WR-TIMEZONE:Europe/Berlin
BEGIN:VEVENT
UID:1636@mpoint.biz
DTSTART;TZID=Europe/Berlin:20250603T190000
DTEND;TZID=Europe/Berlin:20250603T203000
DTSTAMP:20250604T073727Z
URL:https://mpoint.biz/events/webtalk-trump-zoelle-wirtschaftskrise/
SUMMARY:WebTalk – Trump\, Zölle\, Wirtschaftskrise?
DESCRIPTION:Kaum im Amt\, startet Donald Trump seine zweite Amtszeit mit ei
 nem Paukenschlag – und trifft mitten ins Herz der globalen Handelspoliti
 k. Was steckt hinter der aggressiven Zollpolitik? Was will Trump wirklich 
 erreichen – und zu welchem Preis?\n\nIn unserem WebTalk „Trump – Zö
 lle – Wirtschaftskrise?“ nimmst Du gemeinsam mit dem Politikwissenscha
 ftler Ingmar Niemann die wirtschafts- und außenpolitischen Folgen dieser 
 Strategie unter die Lupe. Wie verändern Trumps Maßnahmen das weltweite G
 efüge von Handel\, Wachstum und Wettbewerb? Und: Gibt es einen Ausweg aus
  der selbstgebauten Wachstumsbremse?\n\nAm Dienstag\, den 03. Juni 2025 um
  19:00 Uhr\, erwarten Dich 90 spannende Minuten – virtuell\, kompakt und
  interaktiv. Du kannst live Fragen stellen und mitdiskutieren.\n\nWas Dich
  erwartet:\n\n 	Ein kluger Blick hinter die Kulissen der US-Handelspolitik
 \n 	Einschätzungen und Analysen eines ausgewiesenen Experten\n 	Die Chanc
 e\, deine eigenen Fragen direkt ins Gespräch einzubringen\n\nSei dabei\, 
 wenn politische Entscheidungen zur wirtschaftlichen Realität werden – u
 nd diskutiere mit uns\, was das für Europa und die Welt bedeutet.\n\n📍
  Online | 🕖 03.06.2025 | 💬 kostenlos | 🔍 Mit Q&amp\;A\n\nVeransta
 lter: Friedrich-Naumann-Stiftung für die Freiheit\nModeration: Thomas Nag
 el\nExperte: Ingmar Niemann M.A.\n\nEine Anmeldung direkt beim Anbieter is
 t erforderlich!\n\nJetzt HIER anmelden und mitdenken – wir freuen uns au
 f Dich!
CATEGORIES:Kooperationspartner
END:VEVENT
BEGIN:VTIMEZONE
TZID:Europe/Berlin
X-LIC-LOCATION:Europe/Berlin
BEGIN:DAYLIGHT
DTSTART:20250330T030000
TZOFFSETFROM:+0100
TZOFFSETTO:+0200
TZNAME:CEST
END:DAYLIGHT
END:VTIMEZONE
END:VCALENDAR