BEGIN:VCALENDAR
VERSION:2.0
PRODID:-//wp-events-plugin.com//6.6.3//EN
TZID:Europe/Berlin
X-WR-TIMEZONE:Europe/Berlin
BEGIN:VEVENT
UID:1224@mpoint.biz
DTSTART;TZID=Europe/Berlin:20230316T120000
DTEND;TZID=Europe/Berlin:20230316T130000
DTSTAMP:20250108T152421Z
URL:https://mpoint.biz/events/webinar-verschaerfte-persoenliche-haftung-fu
 er-geschaeftsfuehrer-leiter-2/
SUMMARY:Webinar: Verschärfte persönliche Haftung für Geschäftsführer/-
 leiter
DESCRIPTION:Infos und einfache Lösungen zu Ihrer und der Entlastung Ihres 
 Steuerberaters?!\n\n\n\nWebinar\n2023 - Verschärfte Haftung für Geschäf
 tsleiter - Grundlagen StaRUG  / aktuelles OLG-Urteil / bewährte Lösungs
 ansätze\n\n\nWann?\n16. März 2023\n\n\nDauer?\n12:00 bis 13:00 Uhr\n\n\n
 Kosten?\nKeine\n\n\nReferenten?\nKarsten Lewe – Dipl.-Kfm.(FH) Leiter de
 s Gewerbezentrums des BVSV e.V. Bad Schwartau\nJan Höntzsch – Sachverst
 ändiger\, Mediator und gerichtlich zugelassener Rentenberater\n\nDavid Ba
 stanier – Rechtsanwalt Kanzlei Bastanier &amp\; Schmelzer Dresden\n\nBit
 te melden Sie sich unter den nachfolgenden Link an:\n\n\n \n\n \nhttps:/
 /us02web.zoom.us/webinar/register/WN_79on8kRUR8eSGRlS9Syg9g\n\n \n\n\nInh
 alt:\n\n\n 	Was ist StaRUG?\nNeue und alte Pflichten.\n 	Blanke Theorie od
 er gelebte Praxis?\nPraxisbewertung und Feedback RA Bastanier| Vergleich O
 LG Urteil\nPraxis-Beispiel: Betriebliche Altersversorgung und mehr\n 	Wie 
 kann eine einfache Basis zum Schutz aussehen?\nBVSV-RiskChecks für kleine
  und mittelständige Unternehmen\nals einfache Lösung\, die sich jeder le
 isten kann und sollte.\n 	Wer kann Unternehmern\, Verantwortlichen und Ste
 uerberatern helfen?\n 	Fragerunde\n\n&nbsp\;\n\n\nMehr Infos unter:\nBVSV 
 Gewerbezentrum Nürnberg oder Blog &amp\; News\n\n\n\nMehr als 498 Unterne
 hmern der letzten Seminare haben deutliches Interesse gezeigt. Informieren
  Sie sich. Hinterfragen Sie die Aussagen.\nTreffen Sie im Sinne Ihres Unte
 rnehmens oder Ihrer Kunden Entscheidungen. Hier einfach kostenfrei anmelde
 n\n\nhttps://us02web.zoom.us/webinar/register/WN_79on8kRUR8eSGRlS9Syg9g
ATTACH;FMTTYPE=image/jpeg:https://mpoint.biz/wp-content/uploads/2024/07/Mi
 tglied-im-BVSV-1.webp
CATEGORIES:Mitglied
END:VEVENT
BEGIN:VTIMEZONE
TZID:Europe/Berlin
X-LIC-LOCATION:Europe/Berlin
BEGIN:STANDARD
DTSTART:20221030T020000
TZOFFSETFROM:+0200
TZOFFSETTO:+0100
TZNAME:CET
END:STANDARD
END:VTIMEZONE
END:VCALENDAR