BEGIN:VCALENDAR
VERSION:2.0
PRODID:-//wp-events-plugin.com//6.6.3//EN
TZID:Europe/Berlin
X-WR-TIMEZONE:Europe/Berlin
BEGIN:VEVENT
UID:829@mpoint.biz
DTSTART;TZID=Europe/Berlin:20231024T160000
DTEND;TZID=Europe/Berlin:20231024T180000
DTSTAMP:20240701T124833Z
URL:https://mpoint.biz/events/walking-talking-fuer-spirituelle-unternehmer
 -innen/
SUMMARY:Walking &amp\; Talking für spirituelle Unternehmer/innen
DESCRIPTION:Diese Gruppe ist eine Einladung an spirituelle Unternehmer/inne
 n\, Solopreneure und Startups\, die sich austauschen\, vernetzen und gegen
 seitig unterstützen möchten. Wenn Du Dich angesprochen fühlst\, dann ko
 mm doch einfach mal mit:\n\nWir treffen uns 14-tägig: Dienstags um 16.00 
 Uhr.\nStart/ Ende ist das AlsterCliff\, Fährdamm 13\, Parkplätze vorhand
 en.\nWir gehen gemeinsam um die Außenalster.\n\nAls Unternehmerin achte i
 ch auf mein Wohlbefinden: Hier verbinden wir Bewegung an der frischen Luft
  mit Gesprächen und Netzwerken. Nimm Dir Zeit für Dich und sei es Dir we
 rt.\n\nThemenliste: aktuelle Herausforderungen und Chancen\, gegenseitige 
 Motivation\, neue Ideen. Jeder kann sich hier mit einbringen: Wir kommuniz
 ieren achtsam und wertschätzend.\n\nDie Veranstaltung ist kostenfrei.\n\n
 Herzlichst\nNicole Freudenberg
ATTACH;FMTTYPE=image/jpeg:https://mpoint.biz/wp-content/uploads/2024/07/C8
 5E50ED-D64D-4F58-800E-F4426FCAE10E-1-1.webp
LOCATION:BZ Beraterzentrum\, Ludwig-Erhard-Straße 18\, Hamburg\, 20459\, 
GEO:53.54919;9.980679900000041
X-APPLE-STRUCTURED-LOCATION;VALUE=URI;X-ADDRESS=Ludwig-Erhard-Straße 18\, 
 Hamburg\, 20459\, ;X-APPLE-RADIUS=100;X-TITLE=BZ Beraterzentrum:geo:53.549
 19,9.980679900000041
END:VEVENT
BEGIN:VTIMEZONE
TZID:Europe/Berlin
X-LIC-LOCATION:Europe/Berlin
BEGIN:DAYLIGHT
DTSTART:20230326T030000
TZOFFSETFROM:+0100
TZOFFSETTO:+0200
TZNAME:CEST
END:DAYLIGHT
END:VTIMEZONE
END:VCALENDAR