BEGIN:VCALENDAR
VERSION:2.0
PRODID:-//wp-events-plugin.com//6.6.3//EN
TZID:Europe/Berlin
X-WR-TIMEZONE:Europe/Berlin
BEGIN:VEVENT
UID:904@mpoint.biz
DTSTART;TZID=Europe/Berlin:20240227T160000
DTEND;TZID=Europe/Berlin:20240227T180000
DTSTAMP:20240701T124928Z
URL:https://mpoint.biz/events/walking-talking-fuer-spirituelle-unternehmer
 -innen-9/
SUMMARY:Walking &amp\; Talking für spirituelle Unternehmer/innen
DESCRIPTION:Einladung für spirituelle Unternehmer/innen\,\n\ndiese Veranst
 altung ist eine Einladung an spirituelle Unternehmer/innen\, Solopreneure 
 und Startups\, die sich austauschen\, vernetzen und gegenseitig unterstüt
 zen möchten.\n\nWir treffen uns 14-tägig: Dienstags um 16.00 Uhr.\nStart
 / Ende ist das AlsterCliff\, Fährdamm 13\, Parkplätze vorhanden.\n\nWir 
 gehen gemeinsam um die Außenalster\, Richtung stadtauswärts.\nWir starte
 n pünktlich um 16 Uhr\, meine Telefonnummer: 0176-47356660\n\nHier verbin
 den wir Bewegung an der frischen Luft mit Gesprächen und Netzwerken.\n\n
 – Aktuelle Herausforderungen\n– Chancen &amp\; Möglichkeiten\n– von
 einander profitieren\n– Wissen austauschen &amp\; weitergeben\n– Zusam
 menarbeit fördern\n\nIch freue mich\, Euch kennenzulernen.\nBitte meldet 
 Euch verbindlich an\, damit ich planen kann.\n\nHerzlichst\nNicole Freuden
 berg\n\n Wichtig: Jeder ist für sich selbst verantwortlich. Als Ersteller
  übernehme ich keine Verantwortung.
ATTACH;FMTTYPE=image/jpeg:https://mpoint.biz/wp-content/uploads/2024/07/C8
 5E50ED-D64D-4F58-800E-F4426FCAE10E-1-1-2.webp
LOCATION:BZ Beraterzentrum\, Ludwig-Erhard-Straße 18\, Hamburg\, 20459\, 
GEO:53.54919;9.980679900000041
X-APPLE-STRUCTURED-LOCATION;VALUE=URI;X-ADDRESS=Ludwig-Erhard-Straße 18\, 
 Hamburg\, 20459\, ;X-APPLE-RADIUS=100;X-TITLE=BZ Beraterzentrum:geo:53.549
 19,9.980679900000041
END:VEVENT
BEGIN:VTIMEZONE
TZID:Europe/Berlin
X-LIC-LOCATION:Europe/Berlin
BEGIN:STANDARD
DTSTART:20231029T020000
TZOFFSETFROM:+0200
TZOFFSETTO:+0100
TZNAME:CET
END:STANDARD
END:VTIMEZONE
END:VCALENDAR