BEGIN:VCALENDAR
VERSION:2.0
PRODID:-//wp-events-plugin.com//6.6.3//EN
TZID:Europe/Berlin
X-WR-TIMEZONE:Europe/Berlin
BEGIN:VEVENT
UID:886@mpoint.biz
DTSTART;TZID=Europe/Berlin:20240130T160000
DTEND;TZID=Europe/Berlin:20240130T180000
DTSTAMP:20240701T124915Z
URL:https://mpoint.biz/events/walking-talking-fuer-spirituelle-unternehmer
 -innen-8/
SUMMARY:Walking &amp\; Talking für spirituelle Unternehmer/innen
DESCRIPTION:Einladung für spirituelle Unternehmer/innen\,\n\n\n\n\ndiese 
 Veranstaltung ist eine Einladung an spirituelle Unternehmer/innen\, Solopr
 eneure und Startups\, die sich austauschen\, vernetzen und gegenseitig unt
 erstützen möchten.\n\n\n\nWir treffen uns 14-tägig: Dienstags um 16.00 
 Uhr.\nStart/ Ende ist das AlsterCliff\, Fährdamm 13\, Parkplätze vorhand
 en.\nWir gehen gemeinsam um die Außenalster\, Richtung stadtauswärts.\nW
 ir starten pünktlich um 16 Uhr.\n\nHier verbinden wir Bewegung an der fri
 schen Luft mit Gesprächen und Netzwerken.\n\n– Aktuelle Herausforderung
 en\n– Chancen &amp\; Möglichkeiten\n– voneinander profitieren\n– Wi
 ssen austauschen &amp\; weitergeben\n– Zusammenarbeit fördern\n\nIch fr
 eue mich\, Euch kennenzulernen.\n\n\n\nHerzlichst\nNicole Freudenberg\n\n 
 Jeder ist für sich selbst verantwortlich\, als Veranstalterin übernehme 
 ich keine Haftung.\n\n\n\n\n\n\n\n\n
ATTACH;FMTTYPE=image/jpeg:https://mpoint.biz/wp-content/uploads/2024/07/C8
 5E50ED-D64D-4F58-800E-F4426FCAE10E-1-3.webp
LOCATION:BZ Beraterzentrum\, Ludwig-Erhard-Straße 18\, Hamburg\, 20459\, 
GEO:53.54919;9.980679900000041
X-APPLE-STRUCTURED-LOCATION;VALUE=URI;X-ADDRESS=Ludwig-Erhard-Straße 18\, 
 Hamburg\, 20459\, ;X-APPLE-RADIUS=100;X-TITLE=BZ Beraterzentrum:geo:53.549
 19,9.980679900000041
END:VEVENT
BEGIN:VTIMEZONE
TZID:Europe/Berlin
X-LIC-LOCATION:Europe/Berlin
BEGIN:STANDARD
DTSTART:20231029T020000
TZOFFSETFROM:+0200
TZOFFSETTO:+0100
TZNAME:CET
END:STANDARD
END:VTIMEZONE
END:VCALENDAR