BEGIN:VCALENDAR
VERSION:2.0
PRODID:-//wp-events-plugin.com//6.6.3//EN
TZID:Europe/Berlin
X-WR-TIMEZONE:Europe/Berlin
BEGIN:VEVENT
UID:846@mpoint.biz
DTSTART;TZID=Europe/Berlin:20231107T160000
DTEND;TZID=Europe/Berlin:20231107T180000
DTSTAMP:20240701T124845Z
URL:https://mpoint.biz/events/walking-talking-fuer-spirituelle-unternehmer
 -innen-2/
SUMMARY:Walking &amp\; Talking für spirituelle Unternehmer/innen
DESCRIPTION:Dieses Treffen ist eine Einladung an spirituelle Unternehmer/in
 nen\, Solopreneure und Startups\, die sich austauschen\, vernetzen und geg
 enseitig unterstützen möchten.\n\nWir treffen uns 14-tägig: Dienstags u
 m 16.00 Uhr.\nStart/ Ende ist das AlsterCliff\, Fährdamm 13\, Parkplätze
  vorhanden.\nWir gehen gemeinsam um die Außenalster.\n\n– Aktuelle Hera
 usforderungen\n– Chancen &amp\; Möglichkeiten\n– voneinander profitie
 ren\n– Wissen austauschen &amp\; weitergeben\n– Zusammenarbeit förder
 n\n\nIch freue mich auf Euch!\n\nHerzlichst\nNicole Freudenberg
ATTACH;FMTTYPE=image/jpeg:https://mpoint.biz/wp-content/uploads/2024/07/C8
 5E50ED-D64D-4F58-800E-F4426FCAE10E-1.webp
LOCATION:BZ Beraterzentrum\, Ludwig-Erhard-Straße 18\, Hamburg\, 20459\, 
GEO:53.54919;9.980679900000041
X-APPLE-STRUCTURED-LOCATION;VALUE=URI;X-ADDRESS=Ludwig-Erhard-Straße 18\, 
 Hamburg\, 20459\, ;X-APPLE-RADIUS=100;X-TITLE=BZ Beraterzentrum:geo:53.549
 19,9.980679900000041
END:VEVENT
BEGIN:VTIMEZONE
TZID:Europe/Berlin
X-LIC-LOCATION:Europe/Berlin
BEGIN:STANDARD
DTSTART:20231029T020000
TZOFFSETFROM:+0200
TZOFFSETTO:+0100
TZNAME:CET
END:STANDARD
END:VTIMEZONE
END:VCALENDAR