BEGIN:VCALENDAR
VERSION:2.0
PRODID:-//wp-events-plugin.com//6.6.3//EN
TZID:Europe/Berlin
X-WR-TIMEZONE:Europe/Berlin
BEGIN:VEVENT
UID:799@mpoint.biz
DTSTART;TZID=Europe/Berlin:20210803T110000
DTEND;TZID=Europe/Berlin:20210803T114500
DTSTAMP:20250108T152343Z
URL:https://mpoint.biz/events/wachstumsmarkt-green-economy-der-ideale-star
 t/
SUMMARY:Wachstumsmarkt Green Economy - Der ideale Start
DESCRIPTION:Green Economy\, Social Entrepreneurship\, Selbstheilungsklinike
 n\, ...\nEs gibt viele wohlklingende Begriffe für Unternehmen\, die unser
 e Welt zu einem besseren und schöneren Ort gestalten wollen.\n\nHier in d
 er Event-Reihe "Unternehmer-Sein\, lernen mit M-POINT" gibt es praktische 
 Unterstützung und neue Denkansätze für Unternehmer\, die die Welt verä
 ndern wollen.\n\nNach aktuellen Statistiken scheitern 80-90% aller Startup
 s.\nDas wollen wir ändern!\nUnsere Lösung:\nWir bringen Jung-Unternehmer
  und Investoren zusammen.\n\nAußerdem entwickeln wir gemeinsam eine Lösu
 ng\, wie wir diejenigen\, die durch ihr Scheitern in die Insolvenz und Kra
 nkheit gerutscht sind\, gemeinsam für einen Neustart unterstützen.\n\nWe
 r sind wir:\n\n  Gudrun Dara Müller\, Begleiterin der Selbstheilung und
  Investorin\nMit der Gesundheitsversicherung bietet sie Unternehmern die i
 deale Basis für einen nachhaltigen Aufbau ihres Unternehmens. Nominiert f
 ür den Deutschen Nachhaltigkeitspreis Design 2021 als Beitrag für die Tr
 ansformation in die Zukunft unserer Träume.\n\n  Jonas Felton\, Jung-Un
 ternehmer\nMit seinem Engagement zeigt er uns\, wie wir mit einer winzigen
  Änderung in unserem Einkaufsverhalten\, die biologische Landwirtschaft u
 nterstützen und Bäume pflanzen können.\n\nWas uns verbindet:\nDer Sloga
 n “Gemeinsam geht’s besser!” von M-POINT ist für uns Selbstverstän
 dlichkeit.\nGemeinsam zeigen wir an unserem Beispiel\, wie dieser Slogan g
 elebt werden kann.\n\nDas\, was einem Unternehmer Stärke gibt\, sind sein
 e Beziehungen.\nNutze dieses Event\, um deine Beziehungen zu stärken!\n
 –&gt\; Lade dafür deine Kontakte ein\, dabei zu sein!\n\nMöchtest du d
 ir die Aufzeichnung des vorherigen Unterstützungs-Events anschauen?\nDies
 e findest du hier in unserer Telegram-Gruppe für Win-Win-Win-Kooperatione
 n.\nWenn du mit Unternehmern und Politikern Kontakte knüpfen möchtest\, 
 dann melde dich jetzt hier über diesen Link in M-Point an:\nhttps://www.m
 point.biz/?ref=71\n\nDas Event startet um 11 Uhr und dauert planmäßig 45
  Minuten.\nDie reale Dauer ist von der Anzahl der Fragen abhängig\, die b
 eantwortet werden wollen.\nWenn du das Event zum Netzwerken verwenden möc
 htest\, dann kannst du den Zoom-Raum bereits 15 Minuten vorher über diese
 n Link betreten und mit den Anwesenden ins Gespräch kommen:\nhttps://us02
 web.zoom.us/j/89460348244?pwd=aG0zYjhLbThsSXZBZTFtdWdCajF3UT09\nMeeting-ID
 : 894 6034 8244\nKenncode: 17032021\nFalls es bei dir Probleme bei der Anm
 eldung gibt\nScheinbar sind "grüne Männchen" unterwegs\, die die Anmeldu
 ng behindern. \;-)\nDoch echte Unternehmer wissen\, dass es viele Wege gib
 t\, die zum Ziel führen.\n\nVariante 1:\nRegistriere dich vorher hier im 
 Portal von M-POINT.\nFülle dann gleich dein Profil aus\, so dass wir wiss
 en\, was du als Unternehmer im Angebot hast.\n\nVariante 2:\nNutze hier da
 s Event auf Xing für die Anmeldung\n\nVariante 3:\nKomme ohne Anmeldung 
 über den Zoom-Link mit ins Meeting.
ATTACH;FMTTYPE=image/jpeg:https://mpoint.biz/wp-content/uploads/2024/07/en
 vironmental-protection-886672_640.jpg
CATEGORIES:Mitglied
END:VEVENT
BEGIN:VTIMEZONE
TZID:Europe/Berlin
X-LIC-LOCATION:Europe/Berlin
BEGIN:DAYLIGHT
DTSTART:20210328T030000
TZOFFSETFROM:+0100
TZOFFSETTO:+0200
TZNAME:CEST
END:DAYLIGHT
END:VTIMEZONE
END:VCALENDAR