BEGIN:VCALENDAR
VERSION:2.0
PRODID:-//wp-events-plugin.com//6.6.3//EN
TZID:Europe/Berlin
X-WR-TIMEZONE:Europe/Berlin
BEGIN:VEVENT
UID:708@mpoint.biz
DTSTART;TZID=Europe/Berlin:20230209T150000
DTEND;TZID=Europe/Berlin:20230209T183000
DTSTAMP:20240701T124654Z
URL:https://mpoint.biz/events/vr-virtuelle-realitaet-ar-erweiterte-realita
 etals-revolutionaere-entwicklung-im-handwerk/
SUMMARY:VR (virtuelle Realität) & AR (erweiterte Realität)als revolution
 äre Entwicklung im Handwerk
DESCRIPTION:Die Handelskammer Hamburg veranstaltet im Elbcampus eine Verans
 taltung zum o. g. genannten Thema.\n\nSetze Deine VR-Brille auf und erlebe
  eine völlig neue Welt im Handwerk!\n\nInteressant ist die Veranstaltung 
 z. B. für Elektroniker\, Anlagenmechaniker\, Sanitär- Heizungs- und Klim
 atechniker\, Maler und Lackierer.\n\nAber auch alle anderen Interessierte 
 sind herzlich eingeladen.\n\nDie vorgestellten Technologien lassen sich du
 rch gezielte Anpassung oder Weiterentwicklung auf weitere Prozesse in Dein
 em Unternehmen übertragen.\n\nDer Titel der Veranstaltung bei der Handels
 kammer lautet: “VR &amp\; AR: Neue Technologien live erleben“\n\nFür 
 die Teilnahme an diesem Event ist eine Anmeldung auf dem M-POINT Unternehm
 erportal NICHT ausreichend.\n\nVielmehr ist die Teilnahme nur nach bestät
 igter Anmeldung beim Veranstalter möglich.\n\nDen Anmeldeprozess findest 
 Du hier !
ATTACH;FMTTYPE=image/jpeg:https://mpoint.biz/wp-content/uploads/2024/07/M-
 POINT-KOOPERATION-5.webp
LOCATION:pirAMide Informatik GmbH\, Grelckstraße 36\, Hamburg\, 22529\, 
GEO:53.6019809;9.953671499999928
X-APPLE-STRUCTURED-LOCATION;VALUE=URI;X-ADDRESS=Grelckstraße 36\, Hamburg\
 , 22529\, ;X-APPLE-RADIUS=100;X-TITLE=pirAMide Informatik GmbH:geo:53.6019
 809,9.953671499999928
END:VEVENT
BEGIN:VTIMEZONE
TZID:Europe/Berlin
X-LIC-LOCATION:Europe/Berlin
BEGIN:STANDARD
DTSTART:20221030T020000
TZOFFSETFROM:+0200
TZOFFSETTO:+0100
TZNAME:CET
END:STANDARD
END:VTIMEZONE
END:VCALENDAR