BEGIN:VCALENDAR
VERSION:2.0
PRODID:-//wp-events-plugin.com//6.6.3//EN
TZID:Europe/Berlin
X-WR-TIMEZONE:Europe/Berlin
BEGIN:VEVENT
UID:1560@mpoint.biz
DTSTART;TZID=Europe/Berlin:20241119T180000
DTEND;TZID=Europe/Berlin:20241119T193000
DTSTAMP:20250108T152519Z
URL:https://mpoint.biz/events/vortrag-ueber-moderne-therapiemoeglichkeiten
 -fuer-neurodegenerative-erkrankungen/
SUMMARY:Vortrag über moderne Therapiemöglichkeiten für neurodegenerative
  Erkrankungen
DESCRIPTION:Unser Mitglied Dr. Hans Lindauer\, Therapeutikum Hamburg\, läd
 t Dich herzlich ein zu einem informativen und aufschlussreichen Vortrag vo
 n Dr. Hans Lindauer. Hier erfährst Du alles über moderne Ansätze und di
 e neuesten wissenschaftlichen Erkenntnisse in der Behandlung von Durchblut
 ungsstörungen im Gehirn und deren Auswirkungen auf neurodegenerative Erkr
 ankungen wie:\n\n 	Demenz\, Alzheimer und Parkinson\n 	Migräne\, Tinnitus
 \, Depression und Schwindel\n\nThema des Abends: Was ist heute möglich? D
 r. Lindauer stellt Dir moderne Behandlungsmöglichkeiten vor\, wie zum Bei
 spiel TPS (Transkranielle Pulsstimulation)\, den Infrarot-Helm und IHHT (I
 ntervall-Hypoxie-Hyperoxie-Therapie). Du erfährst\, welche Methoden der A
 rzt anwenden kann und welche Maßnahmen Du selbst zur Verbesserung Deiner 
 Gesundheit ergreifen kannst.\n\nZusätzlich geht Dr. Lindauer auf wichtige
  Themen der allgemeinen Gesundheit und Prävention ein\, unter anderem:\n\
 n 	Allergien durch Zahnmaterialien und ihre möglichen Auswirkungen\n 	Sin
 usitis in Verbindung mit Problemen der Backenzähne\n 	CMD (Craniomandibul
 äre Dysfunktion)\, Rückenschmerzen und die Gelbschiene\n 	Schnarchschien
 e zur Unterstützung bei Schnarchen\n 	Zusammenhänge zwischen Herz- und Z
 ahngesundheit\, Diabetes und Parodontose\n 	Zahnherde\, tote Zähne und ih
 re möglichen Einflüsse auf das Wohlbefinden\n 	Mögliche Ursachen von Ko
 pfschmerzen\, zum Beispiel durch verlagerte Weisheitszähne\n\nNutze die G
 elegenheit\, Dein Wissen über diese modernen Therapiemöglichkeiten und p
 räventiven Maßnahmen zu erweitern. Das Therapeutikum Hamburg freut sich 
 auf einen spannenden und erkenntnisreichen Abend mit Dir und steht natürl
 ich für alle Fragen zur Verfügung.\n\nWann:Dienstag\, den 19. November 2
 023\, um 18:00 Uhr\n\nWo: Vortragsraum in unserer Praxis:\nTherapeutikum D
 r. Hans Lindauer\nBorsteler Chaussee 47\, 22453 Hamburg\n(Fahrstuhl vorhan
 den)\n\nBitte melde Dich gerne telefonisch unter 040 524 706060 oder pers
 önlich in unserer Praxis an.
ATTACH;FMTTYPE=image/jpeg:https://mpoint.biz/wp-content/uploads/2024/12/EV
 ENTARIUM_Grafik-Dr.-Lindauer.webp
CATEGORIES:Mitglied
LOCATION:Ruby Hans Workspaces Hamburg\, Steinhöft 9\, Hamburg\, 20459\, 
GEO:53.5452369;9.982547000000067
X-APPLE-STRUCTURED-LOCATION;VALUE=URI;X-ADDRESS=Steinhöft 9\, Hamburg\, 20
 459\, ;X-APPLE-RADIUS=100;X-TITLE=Ruby Hans Workspaces Hamburg:geo:53.5452
 369,9.982547000000067
END:VEVENT
BEGIN:VTIMEZONE
TZID:Europe/Berlin
X-LIC-LOCATION:Europe/Berlin
BEGIN:STANDARD
DTSTART:20241027T020000
TZOFFSETFROM:+0200
TZOFFSETTO:+0100
TZNAME:CET
END:STANDARD
END:VTIMEZONE
END:VCALENDAR