BEGIN:VCALENDAR
VERSION:2.0
PRODID:-//wp-events-plugin.com//6.6.3//EN
TZID:Europe/Berlin
X-WR-TIMEZONE:Europe/Berlin
BEGIN:VEVENT
UID:1174@mpoint.biz
DTSTART;TZID=Europe/Berlin:20230222T190000
DTEND;TZID=Europe/Berlin:20230222T200000
DTSTAMP:20250108T152414Z
URL:https://mpoint.biz/events/vorstellung-der-herzensprojekte-fuer-die-neu
 schoepfung-des-gesellschaftlichen-systems-2/
SUMMARY:Bilanz nach 1 Monat Akademie für die Meisterschaft des Lebens
DESCRIPTION:1. Bericht der Akademie für die Meisterschaft des Lebens\nFind
 e hier den Weg der Akademie\n\nWie haben sich unsere Erfolgskennzahlen im 
 1. Monat entwickelt?\n\nWas ist der Stand der Modellprojekte\n\n 	für ein
  erfolgreiches Sozialsystem: Netzwerk der Selbstheilungskliniken\n 	für e
 in erfolgreiches Gesundheitssystem: Netzwerk der Selbstverantwortung\n 	f
 ür ein erfolgreiches Wirtschaftssystem: Netzwerk der Dankbarkeit\n 	für 
 ein erfolgreiches Bildungssystem: Akademie für die Meisterschaft des Lebe
 ns\n 	für ein Wohlfühl-Finanzsystem\n\nWie ist der Stand der Forschungss
 tudien?\n\nDie Forschungsstudien sind Doppelblindstudien\, in denen wir un
 s freiwillig vom Mainstream abschirmen.\nIm folgenden Tagesordnungspunkt e
 rhalten wir den Blick aufs große Ganze:\n2. Statusberichte der externen B
 eobachter\nWir prüfen mit der Feldstudie verschiedene Modelle\, die in ih
 rer Kernaussage behaupten:\n"Wenn nur ein kleiner Teil der Menschheit in s
 ich Frieden findet\, spiegelt sich dieser Frieden in ihrem Umfeld wieder.\
 nSo reichen 100 Menschen\, die in ihrem inneren Frieden angekommen sind\, 
 so dass 1 Million Menschen in sich den inneren Impuls auf Seelenebene erha
 lten\, sich auf den Weg zu ihrem inneren Frieden zu machen."\n(Maharishi-E
 ffekt\, Phänomen des 100sten Affen\, kritische Masse\, Beschreibung von Q
 uantenverschränkung und Resonanzphänomenen\, u.a.)\n\nBis zu diesem Term
 in haben wir das Ziel\, dass mindestens 100 Studienteilnehmer im inneren F
 rieden angekommen sind.\n\nWir haben uns für das Modellprojekt aus dem Ma
 instream in unsere Familien zurück gezogen.\nWir verbinden unsere Familie
 n mit der Parallelwelt des goldenen Zeitalters.\nWir starten eine Karawane
 \, die Familie für Familie mit ins goldene Zeitalter nimmt.\nUnser einzig
 er Seismograph für die Stimmung in der Gesellschaft ist die Börsenkurve 
 unseres Finanzprojekts:\nhttps://coinsbit.io/de/trade_classic/PLCUC_USDT\n
 Sie war bei Studienstart im Bereich von 1 PLCUC kostet 300 USDT.\nWenn uns
 ere Studie erfolgreich ist\, werden wir es dort als erstes sehen.\n\nFür 
 die Antwort auf die Frage der Studie nutzen wir deshalb externe Beobachter
 :\n„Welchen Einfluss hat unser innerer Frieden auf den gesellschaftliche
 n Frieden und die gesellschaftliche Gesundheit?“\n\nGibt es Ereignisse i
 n der Gesellschaft und der Welt\, die unerwartet oder ungewöhnlich sind\,
  und bei denen ein Zusammenhang auf Seelenebene vermutet werden kann?\n3. 
 Raum für Fragen\nHier kannst du deine Fragen zur Akademie und unseren Mod
 ellprojekten stellen.\nDas Event gestaltet\n  Gudrun Dara Müller\, Hei
 lpraktikerin\nPraxis Selbstheilungsberatung\nGründerin und Leiterin der F
 orschungsabteilung des Studiennetzwerks für integrative Medizin\nTeilnahm
 e\nDie Teilnahme ist kostenfrei möglich.\n\nTeilnehmer können diesem Zoo
 m-Meeting von einem Computer\, Tablet oder Smartphone aus beitreten:\n\nht
 tps://us02web.zoom.us/j/86777050011?pwd=SG9wdSs5d21NUGFYNU5sMmYzWVFpUT09\n
 \nMeeting-ID: 867 7705 0011\nKenncode: 111\n\n&nbsp\;
ATTACH;FMTTYPE=image/jpeg:https://mpoint.biz/wp-content/uploads/2024/07/Fr
 ieden-Startbeitrag.webp
CATEGORIES:Mitglied
END:VEVENT
BEGIN:VTIMEZONE
TZID:Europe/Berlin
X-LIC-LOCATION:Europe/Berlin
BEGIN:STANDARD
DTSTART:20221030T020000
TZOFFSETFROM:+0200
TZOFFSETTO:+0100
TZNAME:CET
END:STANDARD
END:VTIMEZONE
END:VCALENDAR