BEGIN:VCALENDAR
VERSION:2.0
PRODID:-//wp-events-plugin.com//6.6.3//EN
TZID:Europe/Berlin
X-WR-TIMEZONE:Europe/Berlin
BEGIN:VEVENT
UID:606@mpoint.biz
DTSTART;TZID=Europe/Berlin:20201108T190000
DTEND;TZID=Europe/Berlin:20201108T203000
DTSTAMP:20250108T152333Z
URL:https://mpoint.biz/events/vorbereitung-des-starts-in-die-zukunft/
SUMMARY:Vorbereitung des Starts in die Zukunft
DESCRIPTION:Die Welt legt sich in diesem Jahr das zweite Mal aus Angst vor 
 einem Virus schlafen und riskiert damit das Überleben vieler Unternehmen 
 und die wirtschaftliche Stabilität vieler Menschen.\n\n 	Wenn die wirtsch
 aftliche Stabilität verschwindet\, dann landen wir in Hamsterrädern\, au
 s denen der Ausstieg schwer fällt.\n 	Hamsterräder\, Süchte und Ablenku
 ngen erzeugen einen permanenten Stress in unserem Körper.\n 	Das kann zu 
 Symptomen von Krankheiten führen.\n 	Wenn die Ursache nicht beseitigt wir
 d\, dann kann der Arzt auch nicht helfen.\n\nGerade Frauen sind von diesen
  Teufelskreisen stark betroffen.\n\n 	Sie sind emotional stark verbunden m
 it ihren Unternehmen und Familien.\n 	Wenn es diesen schlecht geht\, dann 
 hat das dramatische Folgen auch für ihre Gesundheit.\n 	Eine Fortsetzung 
 der gesellschaftlichen Dramen wird für immer mehr Frauen zur Diagnose Bru
 stkrebs führen.\n\nGibt es eine Wertigkeit von Krankheiten?\nIst es sinnv
 oll beim Vermeiden der einen Krankheit\, ganz viele andere Krankheiten aus
 zulösen?\nDoch was ist sonst noch möglich?\nWir Frauen schließen uns je
 tzt zusammen und sagen laut STOPP!\nEs muss einen anderen Weg geben\, der 
 auch unsere Gesundheit schützt!\nWir setzen ab jetzt uns und unsere Gesun
 dheit an die erste Stelle!\n.\nWir starten dafür am 11.11.2020 in die Zuk
 unft. Hier findest du das Event.\n.\nFür den Ausstieg aus diesem Teufels
 kreis finden wir gemeinsam einen Weg\, der unsere Ängste und Sorgen berü
 cksichtigt\, aber in die Zukunft und in ein harmonisches und respektvolles
  Miteinander in wirtschaftlicher Stabilität führt.\n.\nWir sehen\, wie d
 as aktuelle Hygienekonzept der Regierung uns und die Umwelt krank macht.\n
 Wir erstellen in diesem Event gemeinsam ein Hygienekonzept\, das in die Zu
 kunft führt und auf Unternehmen und unser Miteinander übertragen werden 
 kann.\n.\nGäste mit verschiedenen Sichtweisen und ihre Inspirationen sind
  herzlich willkommen!\nTeile den Link gern in deinem Freundes- und Bekannt
 enkreis!\n\nFolgender Vorschlag steht zur Diskussion:\n\nAHA steht für un
 s für:\nAha! = Aufwachen aus der Angsthypnose und dem Würgegriff der Vo
 rsicht und Unsicherheit und eine Rückkehr in die Vitalität des Lebens.\n
 Angst\, Ärger und Sorge zerstören unser Immunsystem\, wenn wir nicht ler
 nen\, damit gesund umzugehen!!!\n.\nA = Achtsamkeit im Miteinander und fü
 r uns selbst\nd.h. wir nehmen wahr\, wie viel Raum jemand für sich brauch
 t und gewähren kann\nd.h. wir nehmen wahr\, wenn uns etwas berührt und a
 us der Sicherheit werfen will.\nWir lernen es über die Methoden der radik
 alen Ehrlichkeit und ähnliche Methoden\nmiteinander zu kommunizieren und 
 in die Entscheidung und das Handeln zu kommen.\n.\nH = Hygiene mit Sinn un
 d Verstand\, die unser Mikrobiom und sein Gleichgewicht berücksichtigt.\n
 d.h. wir töten nicht alles Leben in uns und um uns und vergiften in unser
 er Angst die Lebensgrundlage wie z.B. das Grundwasser\nd.h. wir erinnern u
 ns an Louis Pasteur: “Die Mikrobe ist nichts\, das Milieu ist alles.”\
 nd.h. wir finden Wege das Milieu der Angst und Unsicherheit zu verlassen\n
 d.h. wir erhöhen die Energie unserer Umgebung und unseres Körpers\nd.h. 
 wir kommen in unserem Vertrauen für unsere Stärke an\n.\nA = Aufmerksamk
 eit auf die Veränderung der Symptome in der Zeit\,\nDie Symptome in unser
 em Körper haben etwas mit uns und unserem Leben zu tun.\nWenn wir beobach
 ten\, wie sie sich in der Zeit verändern\, dann können wir erkennen\, wa
 s uns unser Körper damit sagen möchte.\nDann können wir es lernen\, den
  Körper sinnvoll bei seinem Kampf für unser Überleben zu unterstützen.
 \nDas Modell der 5 biologischen Naturgesetze zeigt unserem Verstand sehr s
 trukturiert\, wie der Körper funktioniert.\nIn der Gesundheitsversicherun
 g des Studiennetzwerks für integrative Medizin lernen wir es\, dieses Mod
 ell für eine nachhaltige Gesundheit anzuwenden.\nDurch Investitionen in u
 nsere Gesundheit bauen wir uns so Schritt für Schritt wirtschaftliche Sta
 bilität auf.\n.\n  Gudrun Dara Müller\, Gründerin des Studiennetzwer
 ks für integrative Medizin\n\n(Diplommathematikerin – Heilpraktikerin 
 – Coach für das Spiel des Lebens in der Praxis Selbstheilungsberatung)
 \n\nmoderiert die Diskussion.\n\n\nDer Veranstalter: Studiennetzwerk für 
 integrative Medizin\nWir organisieren Studien zur Selbstheilung.\nIn unser
 en Studien lernen wir\, die Selbstverantwortung zu übernehmen und andere 
 bei der Übernahme ihrer Selbstverantwortung zu unterstützen\n\n\n\n\n\nS
 elbstverantwortung heißt:\n\n 	Wir übernehmen die Verantwortung für uns
 ere Gesundheit\, unser Leben und unsere Welt.\n 	Wir schaffen es\, die Sel
 bstheilungskräfte im normalen Leben in Balance zu halten und dadurch die 
 Magie des Lebens zu erfahren.\n 	Wir gestalten und realisieren unsere Trä
 ume und Visionen nachhaltig.\n\n\n\nDie Veranstaltung findet online per Zo
 om statt.\nLogge dich bitte ab 18:55 Uhr ein\, damit wir pünktlich um 19:
 00 Uhr starten können\, Ende der Veranstaltung ist um 20:30 Uhr.\n\nTeile
  den Link gern in deinem Freundes- und Bekanntenkreis!\n\nGäste sind herz
 lich willkommen!\n\nLink zum Zoom Call:\n\nhttps://zoom.us/j/2771632328\n\
 nMeeting-ID: 277 163 23 28\n\nAlle Teilnehmer sind damit einverstanden\, d
 ass die Veranstaltung per Videomitschnitt aufgezeichnet wird.\nMit deiner 
 Teilnahme am Event erklärst du dich einverstanden\, dass die Videomitschn
 itte öffentlich verwendet und weitergegeben werden dürfen.
ATTACH;FMTTYPE=image/jpeg:https://mpoint.biz/wp-content/uploads/2024/07/wo
 men-3394510_640-2.jpg
CATEGORIES:Mitglied
END:VEVENT
BEGIN:VTIMEZONE
TZID:Europe/Berlin
X-LIC-LOCATION:Europe/Berlin
BEGIN:STANDARD
DTSTART:20201025T020000
TZOFFSETFROM:+0200
TZOFFSETTO:+0100
TZNAME:CET
END:STANDARD
END:VTIMEZONE
END:VCALENDAR