BEGIN:VCALENDAR
VERSION:2.0
PRODID:-//wp-events-plugin.com//6.6.3//EN
TZID:Europe/Berlin
X-WR-TIMEZONE:Europe/Berlin
BEGIN:VEVENT
UID:843@mpoint.biz
DTSTART;TZID=Europe/Berlin:20211110T110000
DTEND;TZID=Europe/Berlin:20211110T120000
DTSTAMP:20250108T152346Z
URL:https://mpoint.biz/events/vom-ausgegrenzten-zum-vorreiter/
SUMMARY:Vom Ausgegrenzten zum Vorreiter
DESCRIPTION:Aktuell fühlen sich viele Menschen durch die gesundheitspoliti
 schen Vorgaben von 2G\, 3G und Maskenzwang in ihrer persönlichen Freiheit
  eingeschränkt und ausgegrenzt.\nDadurch fällt es ihnen schwer\, in ihre
 r Freude und damit in ihrer Gesundheit zu bleiben.\n\nIn der Eventreihe "M
 ehr Freude im Alltag von Actives" fragen wir uns:\nWie können diese Mensc
 hen\, die Situation aktiv und selbstbestimmt für sich nutzen?\nWie könne
 n sie zu Vorreitern für eine neue Medizin werden\, die solche Maßnahmen 
 für den Gesundheitsschutz der Mitglieder der Gemeinschaft nicht mehr brau
 cht?\n\n  Gudrun Dara Müller\, Heilpraktikerin und Begleiterin der Selb
 stheilung\nPraxis Selbstheilungsberatung\nGründerin des Studiennetzwerks 
 für integrative Medizin\nöffnet in diesem Event einen neuen Weg.\n\nSie 
 stellt einen kostenfreien Virentest und eine kostenfreie Impfung vor\, die
  jeder für sich nutzen kann.\nHier findest du die Einführung zur Vorbere
 itung.\nDas Event wird gleichzeitig genutzt\, die verschiedenen wissenscha
 ftlichen Grundlagen der Impfung zusammen zu tragen. Bring dort deine Forsc
 hungen oder die von dir gefundenen Forschungsergebnisse mit ein.\nDie Them
 en des Vortrags\n\n 	Vorstellung: Die Präventivkraft der Freude und wie d
 u sie als Impfung und Test für dich nutzen kannst\n 	Die medizinischen Gr
 undlagen der Präventivkraft der Freude\n 	Stelle deine Verständnisfragen
  zu den medizinischen Grundlagen!\n 	Die gesetzlichen Rahmenbedingungen\n 
 	Stelle deine Verständnisfragen zu den gesetzlichen Rahmenbedingungen!\n 
 	Die Krise als Start in ein neues Gesundheits- und Sozialsystem nutzen\n 	
 Stelle deine abschließenden Fragen!\n\nTeilnahme\nTeilnehmer können dies
 em Zoom-Meeting von einem Computer\, Tablet oder Smartphone aus beitreten:
 \n\n\nhttps://us02web.zoom.us/j/89302307387\n\nMeeting-Id: 89302307387\n\n
 Der Meetingraum ist ab 10:45 Uhr geöffnet und wird um 11:01 Uhr für weit
 ere Teilnehmer geschlossen.\nWir starten pünktlich um 11:01 Uhr.\nDer Mee
 tingraum ist bis 13 Uhr für die Beantwortung von Fragen und zum Netzwerke
 n geöffnet.\nAufzeichnung\nDer Vortrag wird aufgezeichnet und öffentlich
  zur Verfügung gestellt.\n\nDie anschließende Diskussion und das Netzwer
 ken erfolgt ohne Aufzeichnung.\nOnline-Vorstellungsrunde\nIm Rahmen des Ev
 ents ist keine Zeit für eine Vorstellungsrunde.\nWenn du möchtest\, dass
  wir dich und dein Angebot kennen lernen\, dann bieten wir die folgende M
 öglichkeit an:\n\nRegistriere dich vor der Anmeldung hier kostenfrei übe
 r diesen Link im Portal von M-POINT.\nFülle dann gleich dein Profil aus\,
  so dass wir wissen\, wer du bist und was du anbietest!\nMelde dich dann h
 ier bei der Veranstaltung an:
ATTACH;FMTTYPE=image/jpeg:https://mpoint.biz/wp-content/uploads/2024/07/ic
 h-will-1.jpg
CATEGORIES:Mitglied
END:VEVENT
BEGIN:VTIMEZONE
TZID:Europe/Berlin
X-LIC-LOCATION:Europe/Berlin
BEGIN:STANDARD
DTSTART:20211031T020000
TZOFFSETFROM:+0200
TZOFFSETTO:+0100
TZNAME:CET
END:STANDARD
END:VTIMEZONE
END:VCALENDAR