BEGIN:VCALENDAR
VERSION:2.0
PRODID:-//wp-events-plugin.com//6.6.3//EN
TZID:Europe/Berlin
X-WR-TIMEZONE:Europe/Berlin
BEGIN:VEVENT
UID:1341@mpoint.biz
DTSTART;TZID=Europe/Berlin:20230831T090000
DTEND;TZID=Europe/Berlin:20230831T180000
DTSTAMP:20250108T152437Z
URL:https://mpoint.biz/events/verstehen-entwickeln-anwenden-ki-summit-2023
 /
SUMMARY:KI-Summit 2023 - verstehen » entwickeln » anwenden
DESCRIPTION:Für den KI-Summit 2023 bündeln Handelskammer Hamburg\, Artifi
 cial Intelligence Center Hamburg und Mittelstand-Digital Zentrum Hamburg i
 hre Fach- und Vermittlungskompetenzen für den KI-Standort Hamburg. Sie si
 nd Teil des fAIstival 2023.\nVerstehen » entwickeln » anwenden\n- unter 
 diesem Motto nimmt der diesjährige KI-Summit Experten:innen und Anwender:
 innen auf eine gemeinsame Reise in die Zukunft der Künstlichen Intelligen
 z.\nFreue Dich auf einen inspirierenden Tag\nund erkunde gemeinsam mit uns
 \ndie Zukunft der Künstlichen Intelligenz.\nDer KI-Summit richtet sich an
  alle die einen Einstieg in die Thematik suchen sowie auch an diejenigen\,
  die ihre bereits vorhandenen Kenntnisse vertiefen wollen und den Austausc
 h mit Fachexpert:innen suchen.\n\nNeben dem eigentlichen KI-Summit hast Du
  in diesem Jahr die Gelegenheit beim Hamburg Futures Prompt-a-thon auszup
 robieren\, wozu Generative KI\, wie bspw. ChatGPT\, bereits in der Lage si
 nd und wo deren Grenzen liegen. Entwerfe dabei in Teams bildliche Visionen
  für Hamburg im Jahre 2040. (Extra Anmeldung! und weitere Informationen f
 indest Du hier.)\n\nDer Titel der gesamten Veranstaltung lautet: “KI-Sum
 mit Hamburg 2023 - verstehen » entwickeln » anwenden".\n\nFür die Teiln
 ahme an diesem Event ist eine Anmeldung auf dem M-POINT Unternehmerportal 
 NICHT ausreichend.\n\nVielmehr ist es unbedingt erforderlich\, die Anmeldu
 ng beim Veranstalter direkt vorzunehmen.\n\nDen Anmeldeprozess und weitere
  Informationen zu diesem innovativen Programm findest Du hier!
ATTACH;FMTTYPE=image/jpeg:https://mpoint.biz/wp-content/uploads/2024/07/KI
 -SUMMIT.webp
CATEGORIES:Mitglied
LOCATION:M-POINT ZENTRALE\, Ludwig-Erhard-Str. 18\, Hamburg\, 20459\, Deuts
 chland
GEO:53.549429;9.979908
X-APPLE-STRUCTURED-LOCATION;VALUE=URI;X-ADDRESS=Ludwig-Erhard-Str. 18\, Ham
 burg\, 20459\, Deutschland;X-APPLE-RADIUS=100;X-TITLE=M-POINT ZENTRALE:geo
 :53.549429,9.979908
END:VEVENT
BEGIN:VTIMEZONE
TZID:Europe/Berlin
X-LIC-LOCATION:Europe/Berlin
BEGIN:DAYLIGHT
DTSTART:20230326T030000
TZOFFSETFROM:+0100
TZOFFSETTO:+0200
TZNAME:CEST
END:DAYLIGHT
END:VTIMEZONE
END:VCALENDAR