BEGIN:VCALENDAR
VERSION:2.0
PRODID:-//wp-events-plugin.com//6.6.3//EN
TZID:Europe/Berlin
X-WR-TIMEZONE:Europe/Berlin
BEGIN:VEVENT
UID:778@mpoint.biz
DTSTART;TZID=Europe/Berlin:20230524T080000
DTEND;TZID=Europe/Berlin:20230524T090000
DTSTAMP:20240701T124750Z
URL:https://mpoint.biz/events/unternehmerische-entwicklung-wertschaetzung-
 im-business/
SUMMARY:Unternehmerische Entwicklung\, Wertschätzung im Business!
DESCRIPTION:Dieses Online-Format der Friedrich-Naumann-Stiftung bietet eine
 n unterhaltsamen und einen etwas anderen Blick auf die Werteorientierung i
 m Kontext Mensch\, Organisation und Gesellschaft.\n\nWo kann ein persönli
 ch justierter Wertekompass Orientierung bieten und dabei helfen\, eigene V
 erhaltensmuster zu reflektieren und zu verbessern.\n\nIn diesem moderierte
 n lebendigen Austausch gewinnen die Teilnehmer Einblicke\, wie sie mit ein
 er bewussten Werteorientierung Ihre Persönlichkeit gezielt weiterentwicke
 ln und den Blick auf Dinge lenken können\, die für Sie wichtig sind.\n\n
 Beate Seewald und Dr. Angelika Trübswetter haben langjährige Erfahrung i
 m Bereich Werteorientierung und Transformationsprozesse.\n\nDer Fokus der 
 heutigen 60 Minuten liegt auf dem Thema: Wertschätzung\n\nWie kann es gel
 ingen\, mit einer wertschätzenden Haltung das Selbstwertgefühl Anderer z
 u stärken und Ihr Umfeld positiv aufzuladen?\nUnser moderiertes Online-Fo
 rmat bietet einen neuen Blick auf das Wunder der Wertschätzung.\n\nWie ka
 nn es besser gelingen\, das Gute im anderen Menschen zu sehen und es zu sc
 hätzen?\n\nSich auf Fehler oder Schwächen anderer zu konzentrieren\, kos
 tet mehr Energie als Stärken zu würdigen.\n\nEine authentische Wertschä
 tzung\, die von Herzen kommt\, kann buchstäblich Berge versetzen.\n\nDer 
 Titel der Veranstaltung lautet: “Wetrtereise - Das Wunder der Wertschät
 zung!\n\nFür die Teilnahme an diesem Event ist eine Anmeldung auf dem M-P
 OINT Unternehmerportal NICHT ausreichend.\n\nVielmehr ist es unbedingt erf
 orderlich\, die Anmeldung beim Veranstalter direkt vorzunehmen.\n\nDen Anm
 eldeprozess findest Du hier !
ATTACH;FMTTYPE=image/jpeg:https://mpoint.biz/wp-content/uploads/2024/07/M_
 POINT_Kooperation-Ausschnitt-auf-600-px_1000-×-800-px_-2-1-1.webp
END:VEVENT
BEGIN:VTIMEZONE
TZID:Europe/Berlin
X-LIC-LOCATION:Europe/Berlin
BEGIN:DAYLIGHT
DTSTART:20230326T030000
TZOFFSETFROM:+0100
TZOFFSETTO:+0200
TZNAME:CEST
END:DAYLIGHT
END:VTIMEZONE
END:VCALENDAR