BEGIN:VCALENDAR
VERSION:2.0
PRODID:-//wp-events-plugin.com//6.6.3//EN
TZID:Europe/Berlin
X-WR-TIMEZONE:Europe/Berlin
BEGIN:VEVENT
UID:1302@mpoint.biz
DTSTART;TZID=Europe/Berlin:20230628T080000
DTEND;TZID=Europe/Berlin:20230628T090000
DTSTAMP:20250108T152431Z
URL:https://mpoint.biz/events/unternehmerische-entwicklung-verbundenheit-i
 m-business-3/
SUMMARY:Online: Körpersprache "richtig" einsetzen
DESCRIPTION:In diesem Online-Impulsvortrag der Friedrich-Naumann-Stiftung e
 rfährst Du\, was derzeit und sicher auch zukünftig jeder braucht: Wie ve
 rhalte ich mich in Videokonferenzen und Calls richtig? Wie kann ich meine 
 Körpersprache so einsetzen\, dass ich besser zur Wirkung komme? Welche Fr
 agen sollte ich mir vor jedem Videochat stellen? Kerstin Lehning\, Kommuni
 kationsexpertin und Coach\, gibt Dir viele praktische Tipps\, damit Du Dic
 h zu einer wirkungsvollen Online-Persönlichkeit entwickeln kannst. Auch f
 ür individuelle Fragen ist an diesem Morgen Zeit! Egl ob Du als Führungs
 kraft oder Mitarbeiter im Berufsleben stehst\, dieses Wissen über Körper
 sprache kannst Du überall anwenden.\n\nDer Titel der Veranstaltung lautet
 : “Crashkurs: Körpersprache im Onlineformat- Digital "richtig" rüberko
 mmen".\n\n\nFür die Teilnahme an diesem Event ist eine Anmeldung auf dem 
 M-POINT Unternehmerportal NICHT ausreichend.\n\nVielmehr ist es unbedingt 
 erforderlich\, die Anmeldung beim Veranstalter direkt vorzunehmen.\n\nDen 
 Anmeldeprozess findest Du hier !
ATTACH;FMTTYPE=image/jpeg:https://mpoint.biz/wp-content/uploads/2024/07/M_
 POINT_Kooperation-Ausschnitt-auf-600-px_1000-×-800-px_-2-1-1.webp
CATEGORIES:Mitglied
END:VEVENT
BEGIN:VTIMEZONE
TZID:Europe/Berlin
X-LIC-LOCATION:Europe/Berlin
BEGIN:DAYLIGHT
DTSTART:20230326T030000
TZOFFSETFROM:+0100
TZOFFSETTO:+0200
TZNAME:CEST
END:DAYLIGHT
END:VTIMEZONE
END:VCALENDAR