BEGIN:VCALENDAR
VERSION:2.0
PRODID:-//wp-events-plugin.com//6.6.3//EN
TZID:Europe/Berlin
X-WR-TIMEZONE:Europe/Berlin
BEGIN:VEVENT
UID:1678@mpoint.biz
DTSTART;TZID=Europe/Berlin:20251028T110000
DTEND;TZID=Europe/Berlin:20251028T120000
DTSTAMP:20251107T123903Z
URL:https://mpoint.biz/events/unternehmens-gpt-auf-einen-schlag-zum-ki-unt
 ernehmen/
SUMMARY:Unternehmens-GPT: Auf einen Schlag zum KI-Unternehmen
DESCRIPTION:Stell Dir vor\, Du könntest die Abläufe in Deinem Unternehmen
  auf einen Schlag smarter\, schneller und effizienter machen – genau das
  ermöglicht ein maßgeschneiderter Unternehmens-GPT. In dieser kompakten 
 Online-Sessionunseres Kooperationspartners\, der Handelskammer Hamburg\, e
 rfährst Du\, wie Du Deine eigenen Daten und Prozesse in einen leistungsst
 arken KI-Assistenten verwandelst.\n\nDu bekommst praxisnahe Einblicke\, we
 lche Mehrwerte deutsche KMUs bereits heute durch KI-Assistenten erzielen\,
  welche Learnings sich in der Umsetzung bewährt haben – und wohin die R
 eise mit KI-Agenten geht.\n\nDein Programm im Überblick:\n\n 	Einführung
 : Was steckt hinter großen Sprachmodellen (LLMs)?\n 	Einsatzmöglichkeite
 n: KI-Assistenten im Unternehmensalltag\n 	Nächste Stufe: KI-Agenten und 
 ihr Potenzial\n 	Praxisbezug: So integrierst Du KI-Agenten in Deinen Betri
 eb\n 	Ausblick: Quo vadis KI?\n 	Offene Fragerunde\n\nNutze diese Chance\,
  Dich zu inspirieren\, Best Practices mitzunehmen und konkrete Ideen für 
 Dein Unternehmen zu entwickeln.\n\nEine Anmeldung direkt beim Veranstalter
  ist notwendig.\n\n👉 Melde Dich jetzt an und sichere Dir Deinen Platz 
 – damit Dein Unternehmen von KI nicht nur spricht\, sondern profitiert.
ATTACH;FMTTYPE=image/jpeg:https://mpoint.biz/wp-content/uploads/2024/07/KO
 OP-1-1.webp
CATEGORIES:Kooperationspartner
END:VEVENT
BEGIN:VTIMEZONE
TZID:Europe/Berlin
X-LIC-LOCATION:Europe/Berlin
BEGIN:STANDARD
DTSTART:20251026T020000
TZOFFSETFROM:+0200
TZOFFSETTO:+0100
TZNAME:CET
END:STANDARD
END:VTIMEZONE
END:VCALENDAR