BEGIN:VCALENDAR
VERSION:2.0
PRODID:-//wp-events-plugin.com//6.6.3//EN
TZID:Europe/Berlin
X-WR-TIMEZONE:Europe/Berlin
BEGIN:VEVENT
UID:780@mpoint.biz
DTSTART;TZID=Europe/Berlin:20230706T100000
DTEND;TZID=Europe/Berlin:20230706T110000
DTSTAMP:20240701T124751Z
URL:https://mpoint.biz/events/ucer-experience-fuer-einsteiger-wie-aus-webs
 ite-besuchern-kunden-werden/
SUMMARY:Ucer Experience für Einsteiger: Wie aus Website-Besuchern Kunden w
 erden.
DESCRIPTION:Bei dieser Online-Veranstaltung der Handelskammer Hamburg wird
  Dir erklärt\, was für die User Experience besonders wichtig ist und wie
  ein positives Nutzungserlebnis erreicht werden kann\, das letztlich zu me
 hr Kund:innen führt.\n\nFunktionalität und Ästhetik entscheiden im Web 
 ebenso über die Zufriedenheit der Nutzer:innen wie die Inhalte.\nEine gel
 ungene UX (= User Experience) verspricht eine einfache und intuitive Bedie
 nung der Website. Komplexe Inhalte sind leicht verständlich aufbereitet. 
 Die Wünsche und Bedürfnisse der Nutzer:innen werden erfüllt\, bevor sie
  aufkommen.\n\nDer Titel der Veranstaltung der Handelskammer lautet: "Auf 
 einen Cappuccino mit... der Artaxo GmbH - User Experience für Einsteiger 
 | Wie aus Website-Besuchern Kunden werden".\n\nFür die Teilnahme an diese
 m Event ist eine Anmeldung auf dem M-POINT Unternehmerportal NICHT ausreic
 hend.\n\nVielmehr ist es unbedingt erforderlich\, die Anmeldung beim Veran
 stalter direkt vorzunehmen.\n\nDen Anmeldeprozess findest Du hier!\n\n&nbs
 p\;
ATTACH;FMTTYPE=image/jpeg:https://mpoint.biz/wp-content/uploads/2024/07/M_
 POINT_Kooperation-Ausschnitt-auf-600-px_1000-×-800-px_.webp
END:VEVENT
BEGIN:VTIMEZONE
TZID:Europe/Berlin
X-LIC-LOCATION:Europe/Berlin
BEGIN:DAYLIGHT
DTSTART:20230326T030000
TZOFFSETFROM:+0100
TZOFFSETTO:+0200
TZNAME:CEST
END:DAYLIGHT
END:VTIMEZONE
END:VCALENDAR