BEGIN:VCALENDAR
VERSION:2.0
PRODID:-//wp-events-plugin.com//6.6.3//EN
TZID:Europe/Berlin
X-WR-TIMEZONE:Europe/Berlin
BEGIN:VEVENT
UID:564@mpoint.biz
DTSTART;TZID=Europe/Berlin:20210121T190000
DTEND;TZID=Europe/Berlin:20210121T203000
DTSTAMP:20240701T124311Z
URL:https://mpoint.biz/events/traumerfuellungsparty-des-studiennetzwerks/
SUMMARY:Traumerfüllungsparty des Studiennetzwerks
DESCRIPTION:Finde jetzt Unterstützung\, um deinen Traum zur Vision zu mach
 en!\nDafür gibt es die Traumerfüllungsparty des Studiennetzwerks für in
 tegrative Medizin.\nSprich deinen Mentor des Studiennetzwerks an\, also de
 n Empfehler dieser Plattform und komm mit ihm zur nächsten Online-Party.\
 nWenn du keinen Mentor hast\, dann findest du ihn auf der nächsten Traume
 rfüllungsparty.\nDie Traumerfüllungsparty findet jede Woche am Donnersta
 g\, von 19 bis 20.30 Uhr statt.\nVorbereitung der Traumerfüllungsparty\nL
 ege für dich fest!\nWelchen Traum möchtest du in den nächsten 8 Wochen 
 für dich wahr machen?\nWas ist dir aktuell so wichtig\, dass du deshalb d
 ein Leben verändern möchtest?\nWoran kannst du am Ende der 8 Wochen erke
 nnen\, dass du dein Traumziel erreicht hast?\n\nFinde weitere wichtige Hin
 weise zur Traumfestlegung hier auf der Plattform InvestiereInGesundheit.de
 \nZugangsdaten zur Traumerfüllungsparty\nZoom-Meeting beitreten per Link:
 \nhttps://us02web.zoom.us/j/88297918215?pwd=bkwvU3p0dlIybHBZRWxyVENZempQUT
 09\nZoom-Meeting beitreten über die Zoom-App:\nMeeting-ID: 882 9791 8215\
 nKenncode: 21012021\nAblauf der Traumerfüllungsparty\n\n 	Wahl des Modera
 tors der Traumerfüllungsparty unter den anwesenden Mitgestaltern des Stud
 iennetzwerks\n 	6 Teilnehmer erhalten vom Moderator die Möglichkeit in je
 weils 9 Minuten ihren Traum zu vertiefen\, so dass er zur Vision wird.\nPr
 iorität 1: Begleiter der Selbstheilung\nPriorität 2: Mitgestalter des St
 udiennetzwerks\nPriorität 3: Mentor des Studiennetzwerks\nPriorität 4: S
 onstiger Teilnehmer der Veranstaltung\n 	Der Teilnehmer stellt seinen Trau
 m kurz vor.\nDabei nutzt er die Fragen hier auf der Startseite.\n 	Dann ha
 ben alle Teilnehmer die Möglichkeit Fragen zum Verständnis zu stellen.\n
 Durch diese Fragen erhält der Traum-Vorsteller Anregungen\, an welchen St
 ellen er den Traum noch präzisieren muss.\nDie Fragen müssen NICHT beant
 wortet werden.\nDer Moderator und die Mitgestalter des Studiennetzwerks ac
 hten darauf\, dass KEINE klugen Ratschläge erteilt werden und KEINE Disku
 ssionen entstehen.\n 	Nach der Traumvorstellungsrunde stellt der Moderator
  fest\, ob es Teilnehmer OHNE Mentor gibt.\nDiese erhalten jetzt die Mögl
 ichkeit\, sich einen Mentor unter den anwesenden Mitgestaltern des Studien
 netzwerks zu wählen.\nDazu stellen sich die anwesenden Mitgestalter des S
 tudiennetzwerks kurz vor.\n 	Zum Abschluss der großen gemeinsamen Runde e
 rklärt der Moderator kurz wie die Plattform weiter zur Realisierung der V
 ision genutzt werden kann.\n 	Der Moderator öffnet Breakout-Räume\, in d
 enen sich die anwesenden Mitgestalter mit ihren Teams treffen\, kennen ler
 nen und Kontaktdaten austauschen können.\n\nFür jedes Bedürfnis hat das
  Leben einen Unternehmer geschaffen!\nDiese findest du hier im Unternehme
 rnetzwerk M-Point.\n\nIm Studiennetzwerk für integrative Medizin legen wi
 r die Basis für ein entspanntes Unternehmer-Sein.\nWir finden im Studienn
 etzwerk gemeinsam Wege zu nachhaltiger Gesundheit und einem Wohlfühleinko
 mmen.\nAlles was du mehr brauchst\, findest du hier im Unternehmernetzwer
 k M-Point.\nMelde dich jetzt hier über diesen Link bei M-Point an\, dann 
 öffne ich\, Gudrun Dara Müller\, dir die Tür auf der anderen Seite\, so
  dass der Einstieg in die Welt der Unternehmer für dich angenehm und leic
 ht wird.\n\nWeitere Veranstaltungen des Studiennetzwerks findest du im Eve
 ntarium von M-Point.
ATTACH;FMTTYPE=image/jpeg:https://mpoint.biz/wp-content/uploads/2024/07/tr
 aumerfuellungsparty.jpg
END:VEVENT
BEGIN:VTIMEZONE
TZID:Europe/Berlin
X-LIC-LOCATION:Europe/Berlin
BEGIN:STANDARD
DTSTART:20201025T020000
TZOFFSETFROM:+0200
TZOFFSETTO:+0100
TZNAME:CET
END:STANDARD
END:VTIMEZONE
END:VCALENDAR