BEGIN:VCALENDAR
VERSION:2.0
PRODID:-//wp-events-plugin.com//6.6.3//EN
TZID:Europe/Berlin
X-WR-TIMEZONE:Europe/Berlin
BEGIN:VEVENT
UID:980@mpoint.biz
DTSTART;TZID=Europe/Berlin:20240917T103000
DTEND;TZID=Europe/Berlin:20240917T123000
DTSTAMP:20240830T134042Z
URL:https://mpoint.biz/events/top-empfehler-wieder-aktiv-3/
SUMMARY:Top-Empfehler wieder aktiv
DESCRIPTION:Liebe Top-Empfehler\,\n\nWir werden uns wieder virtuell treffen
 \, um weitere Ideen zu entwickeln\, damit unser Netzwerk in Quantität und
  insbesondere in Qualität wachsen kann.\n\nWir befinden uns in der Ideen-
 Phase\, wo jeder von uns mit Anregungen oder Erfahrungen dazu beitragen ka
 nn.\n\nIn der darauf folgenden Phase werden wir einen Umsetzungsplan erarb
 eiten.\n\nWenn sich unser Netzwerk qualitativ und quantitativ erweitert\, 
 wird jeder von uns umso mehr davon profitieren.\n\nFolgende Punkte werden 
 wir bei diesem Treffen besprechen:\n\n 	Welche aktuellen Bereiche im Porta
 l sind besonders attraktiv für Mitglieder und Interessenten?\n 	Welchen N
 utzen erwarten unsere Mitglieder?\n 	Sonstiges?\n\nZoom-Meeting beitreten\
 nhttps://zoom.us/j/93827526404?pwd=clFhdXhYRzRtQjc3aFR5QWprWHkvdz09\n\nMee
 ting-ID: 938 2752 6404\nKenncode: 5HU72a\n\nIch bitte um Anmeldung bei die
 ser virtuellen Veranstaltung.\n\nSchöne Grüße\n\nDr. J. Aspiazu
ATTACH;FMTTYPE=image/jpeg:https://mpoint.biz/wp-content/uploads/2024/07/Em
 pfehlungsnetzwerk-2.jpg
CATEGORIES:M-POINT
END:VEVENT
BEGIN:VTIMEZONE
TZID:Europe/Berlin
X-LIC-LOCATION:Europe/Berlin
BEGIN:DAYLIGHT
DTSTART:20240331T030000
TZOFFSETFROM:+0100
TZOFFSETTO:+0200
TZNAME:CEST
END:DAYLIGHT
END:VTIMEZONE
END:VCALENDAR