BEGIN:VCALENDAR
VERSION:2.0
PRODID:-//wp-events-plugin.com//6.6.3//EN
TZID:Europe/Berlin
X-WR-TIMEZONE:Europe/Berlin
BEGIN:VEVENT
UID:1184@mpoint.biz
DTSTART;TZID=Europe/Berlin:20230206T170000
DTEND;TZID=Europe/Berlin:20230206T181500
DTSTAMP:20250108T152415Z
URL:https://mpoint.biz/events/steuerrechtliche-grundlagen-waehrend-der-exi
 stenzgruendung/
SUMMARY:Für Existenzgründer - Was Du bei Einkommensteuer und Umsatzsteuer
  wirklich beachten solltest!
DESCRIPTION:Die Handelskammer Hamburg veranstaltet ein hochspannendes Webin
 ar zum Thema "Steuern in der Gründungsphase"!\n\nModerriert wird die Vera
 nstaltung vom Steuerberater Herrn Maik Schiemann.\n\nUnter anderem wird ei
 n Blick auf folgende Punkte geworfen:\n\n 	Überblick und die wichtigsten 
 Steuerarten\n 	Steuerliche Anmeldung (Fragebogen zur steuerlichen Erfassun
 g)\n 	Grundlagen zur Umsatzsteuer (einschließlich Kleinunternehmerregelun
 g und Rechnungsangaben)\n 	Grundlagen zur Einkommensteuer\, Körperschafts
 teuer und Gewerbesteuer\n(einschließlich Gewinnermittlungsarten)\n 	Steue
 rlicher Rechtsformvergleich\n\nAblaufprogramm\n\n 	17:00 Uhr Begrüßung J
 an Schlüter\, Handelskammer Hamburg\n 	17:05 Uhr Steuerrechtliche Grundla
 gen während der Existenzgründung Maik Schiemann |W|K|O| Wirtschaftskanzl
 ei Oberalster GmbH\n 	18:05 Uhr Ihre Fragen! Jan Schlüter &amp\; Maik Sch
 iemann\n\n&nbsp\;\n\nDer Titel der Veranstaltung lautet: "Steuerrechtliche
  Grundlagen während der Existenzgründung!".\n\nFür die Teilnahme an die
 sem Event ist eine Anmeldung auf dem M-POINT Unternehmerportal NICHT ausre
 ichend.\n\nVielmehr ist es unbedingt erforderlich\, die Anmeldung beim Ver
 anstalter direkt vorzunehmen.\n\nDen Anmeldeprozess findest Du hier !\n\n&
 nbsp\;
ATTACH;FMTTYPE=image/jpeg:https://mpoint.biz/wp-content/uploads/2024/12/M-
 POINT-KOOPERATION-2.webp
CATEGORIES:Mitglied
END:VEVENT
BEGIN:VTIMEZONE
TZID:Europe/Berlin
X-LIC-LOCATION:Europe/Berlin
BEGIN:STANDARD
DTSTART:20221030T020000
TZOFFSETFROM:+0200
TZOFFSETTO:+0100
TZNAME:CET
END:STANDARD
END:VTIMEZONE
END:VCALENDAR