BEGIN:VCALENDAR
VERSION:2.0
PRODID:-//wp-events-plugin.com//6.6.3//EN
TZID:Europe/Berlin
X-WR-TIMEZONE:Europe/Berlin
BEGIN:VEVENT
UID:200@mpoint.biz
DTSTART;TZID=Europe/Berlin:20190930T000000
DTEND;TZID=Europe/Berlin:20191011T000000
DTSTAMP:20240701T124058Z
URL:https://mpoint.biz/events/startup-nexxt-level-online-kongress/
SUMMARY:Startup Nexxt Level Online Kongress
DESCRIPTION:\n\nDer Online Kongress um dein Startup auf ein nächstes Level
  zu bringen\nDer Turbo für dein Startup Business: 30.09. - 11.10.2019\n\n
 \n\n\n\n\nDer Onlinekongress richtet sich im speziellen an Startups die be
 reits 2 bis 5 Jahre am Markt sind und jetzt den Wandel vom Selbstständige
 n zum Unternehmer schaffen wollen.\n\nhttps://www.startupnexxtlevel.com/\n
 \n\n\n\n 	\nDamit Du am Unternehmen und nicht im Unternehmen arbeitest. \
 n\n 	\nDamit Du mit deinem Warum dein Business zum Explodieren bringst. \
 n\n 	\nDamit Du mit dem richtigen Mindset\, deine Ziele innerhalb kürzest
 er Zeit erreichst. \n\n 	\nDamit Du mit den richtigen Tools Zeit und Geld
  sparst. \n\n 	\nDamit Du als Unternehmer von deinen Mitarbeitern geliebt
  wirst.\n\n\nÜber 30 Experten werden Ihr Wissen zum Aufbau eines Unterneh
 men an Dich weitergeben!\n\n\nSei dabei und melde Dich an!!!\n\n\nhttps://
 www.startupnexxtlevel.com/\n
ATTACH;FMTTYPE=image/jpeg:https://mpoint.biz/wp-content/uploads/2024/07/De
 sign-mit-Titel.jpg
END:VEVENT
BEGIN:VTIMEZONE
TZID:Europe/Berlin
X-LIC-LOCATION:Europe/Berlin
BEGIN:DAYLIGHT
DTSTART:20190331T030000
TZOFFSETFROM:+0100
TZOFFSETTO:+0200
TZNAME:CEST
END:DAYLIGHT
END:VTIMEZONE
END:VCALENDAR