BEGIN:VCALENDAR
VERSION:2.0
PRODID:-//wp-events-plugin.com//6.6.3//EN
TZID:Europe/Berlin
X-WR-TIMEZONE:Europe/Berlin
BEGIN:VEVENT
UID:1187@mpoint.biz
DTSTART;TZID=Europe/Berlin:20230313T170000
DTEND;TZID=Europe/Berlin:20230313T201500
DTSTAMP:20250108T152417Z
URL:https://mpoint.biz/events/start-ups-existenzgruender-entrepeneur-aufge
 passt-4/
SUMMARY:Start Ups\, Existenzgründer\, Entrepeneur aufgepasst!
DESCRIPTION:Die Handelskammer Hamburg veranstaltet einen digitalen Infotag 
 zur Existenzgründung.\n\nHierbei werden Dir verschiedene Aspekte einer Gr
 ündung aufgezeigt.\n\nDu erfährst etwas über den Businessplan\, erhäls
 t erste Informationen zu den Themen Finanzierung und möglichen Förderung
 en.\n\nDie Veranstaltung gliedert sich in zwei Teilen und es werden auch r
 echtliche Aspekte und unternehmerische Rechtsformen betrachtet.\n\nTeil 1 
 (ca. 2 Std.)\nBusinessplan\n· Bestandteile eines Businessplans\n· Planen
  mit der Gründungswerkstatt Hamburg\n\n  Finanzierung &amp\; Förderung\
 n· Bausteine der Gründungsfinanzierung\n· Übersicht der wichtigsten F
 örderprogramme\n\nkurze Pause\n\nTeil 2 (ca. 1 Std.)\n\nRechtliche Grundl
 agen im Gründungsprozess\n· Meldeverfahren (Gewerbeanmeldung\, Handelsre
 gister)\n· Rechtsformen\, Firma\n· Abgrenzung Freie Berufe\, Gewerbe\n\n
 Termine:\n\n13.03.2023 - 17:00 - 20:15 Uhr\n\n17.04.2023 - 10:00 - 13:15 U
 hr\n\nDieser kostenlose Infotag wird über Microsoft Teams durchgeführt.\
 n\nDer Titel der Veranstaltung lautet: "Digitale Infotag zur Existenzgrün
 dung".\n\nFür die Teilnahme an diesem Event ist eine Anmeldung auf dem M-
 POINT Unternehmerportal NICHT ausreichend.\n\nVielmehr ist es unbedingt er
 forderlich die Anmeldung beim Veranstalter direkt vorzunehmen.\n\nDen Anme
 ldeprozess findest Du hier !
ATTACH;FMTTYPE=image/jpeg:https://mpoint.biz/wp-content/uploads/2024/07/M_
 POINT_Kooperation-Ausschnitt-auf-600-px_1000-×-800-px_-2.webp
CATEGORIES:Mitglied
END:VEVENT
BEGIN:VTIMEZONE
TZID:Europe/Berlin
X-LIC-LOCATION:Europe/Berlin
BEGIN:STANDARD
DTSTART:20221030T020000
TZOFFSETFROM:+0200
TZOFFSETTO:+0100
TZNAME:CET
END:STANDARD
END:VTIMEZONE
END:VCALENDAR