BEGIN:VCALENDAR
VERSION:2.0
PRODID:-//wp-events-plugin.com//6.6.3//EN
TZID:Europe/Berlin
X-WR-TIMEZONE:Europe/Berlin
BEGIN:VEVENT
UID:378@mpoint.biz
DTSTART;TZID=Europe/Berlin:20200327T110000
DTEND;TZID=Europe/Berlin:20200327T113000
DTSTAMP:20240701T124137Z
URL:https://mpoint.biz/events/stark-in-der-krise-kraft-fuer-neues/
SUMMARY:Stark in der Krise - Kraft für Neues
DESCRIPTION:Kostenfreies Coaching per Zoom!\nüber folgenden Link könnt Ih
 r dabei sein:\n\nhttps://Zoom.us/j/4819770247\n\nIch freue mich auf Euch!\
 n\n&nbsp\;
ATTACH;FMTTYPE=image/jpeg:https://mpoint.biz/wp-content/uploads/2024/07/BA
 E65FC0-5F62-451C-B894-BD5BEC193194.jpeg
END:VEVENT
BEGIN:VTIMEZONE
TZID:Europe/Berlin
X-LIC-LOCATION:Europe/Berlin
BEGIN:STANDARD
DTSTART:20191027T020000
TZOFFSETFROM:+0200
TZOFFSETTO:+0100
TZNAME:CET
END:STANDARD
END:VTIMEZONE
END:VCALENDAR