BEGIN:VCALENDAR
VERSION:2.0
PRODID:-//wp-events-plugin.com//6.6.3//EN
TZID:Europe/Berlin
X-WR-TIMEZONE:Europe/Berlin
BEGIN:VEVENT
UID:1614@mpoint.biz
DTSTART;TZID=Europe/Berlin:20250429T080000
DTEND;TZID=Europe/Berlin:20250429T090000
DTSTAMP:20250506T103325Z
URL:https://mpoint.biz/events/souveraen-statt-streitlustig-wie-diplomatie-
 tueren-oeffnet/
SUMMARY:Souverän statt streitlustig: Wie Diplomatie Türen öffnet
DESCRIPTION:Stell Dir vor\, Du stehst mitten in einer hitzigen Diskussion. 
 Die Fronten sind verhärtet\, Argumente prallen aufeinander\, die Emotione
 n kochen hoch. Du merkst: Jetzt kommt es nicht nur darauf an\, was Du sags
 t – sondern vor allem\, wie Du es sagst.\n\nGenau hier beginnt Diplomati
 e. Nicht als Trick oder taktisches Manöver\, sondern als echte Fähigkeit
 \, mit Klarheit und Souveränität zu kommunizieren – selbst dann\, wenn
  Meinungen auseinandergehen. Es geht darum\, stark in der Sache\, aber ver
 bindlich im Ton zu bleiben.\n\nIn diesem kostenlosen SkillTalk unseres Koo
 perationspartners\, die Friedrich-Naumann-Stiftung\, zeigt Dir Carmen Kauf
 fmann\, erfahrene Trainerin und Coach\, wie Du diplomatisches Geschick im 
 Alltag und Berufsleben gezielt einsetzen kannst. Denn egal\, ob Du in Verh
 andlungen bist\, Konflikte moderierst oder einfach nur schwierige Gespräc
 he führst: Wer souverän bleibt\, gewinnt.\n\nDu lernst\,\n✅ wie Du auc
 h in kritischen Momenten ruhig und klar kommunizierst\,\n✅ warum Diploma
 tie nichts mit Manipulation zu tun hat\,\n✅ und wie Du selbst unter Druc
 k beziehungsorientiert und standhaft bleibst.\n\nEin Talk für alle\, die 
 mehr als nur nette Worte suchen – sondern echte Verständigung.\n\nFür 
 die Teilnahme ist eine direkte Anmeldung beim Veranstalter erforderlich.\n
 \n🔗 Jetzt HIER anmelden und mitreden!
CATEGORIES:Kooperationspartner
END:VEVENT
BEGIN:VTIMEZONE
TZID:Europe/Berlin
X-LIC-LOCATION:Europe/Berlin
BEGIN:DAYLIGHT
DTSTART:20250330T030000
TZOFFSETFROM:+0100
TZOFFSETTO:+0200
TZNAME:CEST
END:DAYLIGHT
END:VTIMEZONE
END:VCALENDAR