BEGIN:VCALENDAR
VERSION:2.0
PRODID:-//wp-events-plugin.com//6.6.3//EN
TZID:Europe/Berlin
X-WR-TIMEZONE:Europe/Berlin
BEGIN:VEVENT
UID:563@mpoint.biz
DTSTART;TZID=Europe/Berlin:20210128T180000
DTEND;TZID=Europe/Berlin:20210128T193000
DTSTAMP:20240701T124310Z
URL:https://mpoint.biz/events/seo-grundlagen-fuer-einsteiger-so-optimierst
 -du-deine-webseite/
SUMMARY:SEO-Grundlagen für Einsteiger – So optimierst du deine Webseite
DESCRIPTION:Donnerstag\, 28.01.2021\, um 18 Uhr\nDu willst dein Suchmaschin
 enranking verbessern und erreichen\, dass potentielle Kunden dich bei Goog
 le vor deiner Konkurrenz entdecken?\n\nJan-Timo Schaube\, Fotograf und Med
 ienunternehmer\, zeigt dir in unserem kostenlosen Webinar die Grundlagen d
 er Suchmaschinenoptimierung und erstellt mit dir diesmal gemeinsam eine Be
 st-Practice-Seite.\n\nDabei geht er u.a. auf folgende Faktoren ein:\n\nKey
 words\nÜberschriften\nTitel Tag und Meta Description\nBilder-SEO\nWeiterf
 ührende Informationen\n\nAnmeldung unter: https://www.fotograf.de/webinar
 /seo-grundlagen/\n\n&nbsp\;
ATTACH;FMTTYPE=image/jpeg:https://mpoint.biz/wp-content/uploads/2024/07/we
 binar-seo-grundlagen_low2.jpg
END:VEVENT
BEGIN:VTIMEZONE
TZID:Europe/Berlin
X-LIC-LOCATION:Europe/Berlin
BEGIN:STANDARD
DTSTART:20201025T020000
TZOFFSETFROM:+0200
TZOFFSETTO:+0100
TZNAME:CET
END:STANDARD
END:VTIMEZONE
END:VCALENDAR