BEGIN:VCALENDAR
VERSION:2.0
PRODID:-//wp-events-plugin.com//6.6.3//EN
TZID:Europe/Berlin
X-WR-TIMEZONE:Europe/Berlin
BEGIN:VEVENT
UID:267@mpoint.biz
DTSTART;TZID=Europe/Berlin:20191114T180000
DTEND;TZID=Europe/Berlin:20191114T190000
DTSTAMP:20240701T124118Z
URL:https://mpoint.biz/events/schreib-dein-buch-online-veranstaltung/
SUMMARY:Schreib Dein Buch - Online-Veranstaltung
DESCRIPTION:Unser nächstes Treffen ist ein Online-Treffen\, da ich bis End
 e November nicht in Hamburg bin.\n\nKlickt für Eure Teilnahme einfach auf
  folgenden Link:\n\nhttps://zoom.us/j/4819770247\n\nAlternativ könnt Ihr 
 Euch die kostenfreie App herunterladen. Dann benötigt Ihr für die Anmeld
 ung nur die Meeting-ID: 481 977 0247\n\nIch freue mich auf Euch!
ATTACH;FMTTYPE=image/jpeg:https://mpoint.biz/wp-content/uploads/2024/07/wr
 iting-1043622_640.png
END:VEVENT
BEGIN:VTIMEZONE
TZID:Europe/Berlin
X-LIC-LOCATION:Europe/Berlin
BEGIN:STANDARD
DTSTART:20191027T020000
TZOFFSETFROM:+0200
TZOFFSETTO:+0100
TZNAME:CET
END:STANDARD
END:VTIMEZONE
END:VCALENDAR