BEGIN:VCALENDAR
VERSION:2.0
PRODID:-//wp-events-plugin.com//6.6.3//EN
TZID:Europe/Berlin
X-WR-TIMEZONE:Europe/Berlin
BEGIN:VEVENT
UID:876@mpoint.biz
DTSTART;TZID=Europe/Berlin:20240101T140000
DTEND;TZID=Europe/Berlin:20240101T150000
DTSTAMP:20240701T124910Z
URL:https://mpoint.biz/events/schreib-dein-buch-in-2024/
SUMMARY:Schreib dein Buch in 2024
DESCRIPTION:Lasst uns in 2024 dieser Gruppe endlich wieder leben einhauchen
 .\n\nPlanst du ein Buch zu schreiben zu veröffentlichen? 2024 ist das per
 fekte Jahr dafür!\n\nDeswegen lasst uns gleich am 1. Januar um 14:00 Uhr 
 treffen. Es gibt ein kleinen Wissens-Input von mir zum Thema Buch schreibe
 n und veröffentlichen und danach gehen wir in die strategische Planung eu
 rer Bücher für 2024. Hast du Lust und Zeit dabei zu sein? Dann melde dic
 h gleich an.\n\nRegistrierungslink:\n\nhttps://us02web.zoom.us/meeting/reg
 ister/tZIld--trDspEtXHSG_lAzMWzcOOEB8ljKxM\n\n&nbsp\;\n\n&nbsp\;\n\n
ATTACH;FMTTYPE=image/jpeg:https://mpoint.biz/wp-content/uploads/2024/07/D1
 140A3E-3D83-4B51-AF1D-74A8B3053CE1.webp
END:VEVENT
BEGIN:VTIMEZONE
TZID:Europe/Berlin
X-LIC-LOCATION:Europe/Berlin
BEGIN:STANDARD
DTSTART:20231029T020000
TZOFFSETFROM:+0200
TZOFFSETTO:+0100
TZNAME:CET
END:STANDARD
END:VTIMEZONE
END:VCALENDAR