BEGIN:VCALENDAR
VERSION:2.0
PRODID:-//wp-events-plugin.com//6.6.3//EN
TZID:Europe/Berlin
X-WR-TIMEZONE:Europe/Berlin
BEGIN:VEVENT
UID:380@mpoint.biz
DTSTART;TZID=Europe/Berlin:20200404T090000
DTEND;TZID=Europe/Berlin:20200404T093000
DTSTAMP:20240701T124137Z
URL:https://mpoint.biz/events/schreib-dein-buch-4/
SUMMARY:Schreib Dein Buch
DESCRIPTION:Schreib Dein Buch - Austausch\, Tipps und Tricks\n\nTeilnahme m
 it folgendem Link:\n\nhttps://Zoom.us/j/4819770247
ATTACH;FMTTYPE=image/jpeg:https://mpoint.biz/wp-content/uploads/2024/07/Fa
 cebook_Motivation-statt-Resignation.jpg
END:VEVENT
BEGIN:VTIMEZONE
TZID:Europe/Berlin
X-LIC-LOCATION:Europe/Berlin
BEGIN:DAYLIGHT
DTSTART:20200329T030000
TZOFFSETFROM:+0100
TZOFFSETTO:+0200
TZNAME:CEST
END:DAYLIGHT
END:VTIMEZONE
END:VCALENDAR