BEGIN:VCALENDAR
VERSION:2.0
PRODID:-//wp-events-plugin.com//6.6.3//EN
TZID:Europe/Berlin
X-WR-TIMEZONE:Europe/Berlin
BEGIN:VEVENT
UID:1577@mpoint.biz
DTSTART;TZID=Europe/Berlin:20250127T190000
DTEND;TZID=Europe/Berlin:20250127T200000
DTSTAMP:20250120T075055Z
URL:https://mpoint.biz/events/schluesselrolle-fuehrung-wie-du-mitarbeitend
 e-langfristig-bindest/
SUMMARY:Schlüsselrolle Führung: Wie Du Mitarbeitende langfristig bindest
DESCRIPTION:Stell Dir vor\, Du könntest die Mitarbeiterbindung in Deinem T
 eam aktiv stärken – und das mit einfachen\, wirkungsvollen Ansätzen. B
 ei der diesem Webtalk unseres Kooperationspartners\, die Friedrich-Naumann
 -Stiftung\, Ausgabe dreht sich alles um die Frage\, wie Führungskräfte d
 urch Kommunikation\, Anerkennung und Förderung eine echte Verbindung zu i
 hrem Team schaffen können.\n\nUnsere Referentin\, Heike Mück\, zeigt Dir
  praxisnah\, welche Eigenschaften erfolgreiche Führungskräfte auszeichne
 n\, wie Du sie direkt umsetzen kannst und welchen Einfluss die Politik auf
  die Rahmenbedingungen nimmt. Nach spannenden Impulsen bleibt Raum für De
 ine Fragen und den Austausch mit anderen Teilnehmenden.\n\nKlingt spannend
 ? Dann sei dabei und melde Dich HIER jetzt an! Wir freuen uns auf Dich!\n\
 nFür die Teilnahme ist eine direkte Anmeldung beim Veranstalter erforderl
 ich.
CATEGORIES:Kooperationspartner
END:VEVENT
BEGIN:VTIMEZONE
TZID:Europe/Berlin
X-LIC-LOCATION:Europe/Berlin
BEGIN:STANDARD
DTSTART:20241027T020000
TZOFFSETFROM:+0200
TZOFFSETTO:+0100
TZNAME:CET
END:STANDARD
END:VTIMEZONE
END:VCALENDAR