BEGIN:VCALENDAR
VERSION:2.0
PRODID:-//wp-events-plugin.com//6.6.3//EN
TZID:Europe/Berlin
X-WR-TIMEZONE:Europe/Berlin
BEGIN:VEVENT
UID:596@mpoint.biz
DTSTART;TZID=Europe/Berlin:20201112T190000
DTEND;TZID=Europe/Berlin:20201112T203000
DTSTAMP:20250108T152333Z
URL:https://mpoint.biz/events/sauberes-wasser-durch-solidarisches-miteinan
 der-2/
SUMMARY:Ärger ist der Weckruf für dein Unternehmer-Gen. Komm mit!
DESCRIPTION:Worüber ärgerst du dich gerade?\nJe nach Weltbild gibt es akt
 uell ganz viel\, worüber wir uns ärgern können.Doch egal\, welche Worte
  es bei dir erzeugt:\nEs ist nur ein Gefühl in deinem Körper\, das dich 
 an alte Ereignisse erinnert\, die mit dem Hier + Jetzt meist wenig zu tun 
 haben.\nLass die Vergangenheit jetzt hinter dir und komm mit uns in die Zu
 kunft!\n\nDein Körper\, der verbunden ist mit der Energie der Erde\, ruft
  dich auf:\nWerde aktiv!\nDie Zeit ist reif\, dass du für dich einstehst 
 und deine Träume wahr machst.\nDas dunkle Zeitalter verabschiedet sich un
 d das goldene Zeitalter ist angebrochen.\nDu bist nicht allein. Wir sind v
 iele auf diesem Weg.\nWir gehen gemeinsam.\n\nWir transformieren unseren 
 Ärger in Freude.\nWir unterstützen uns\, langsam und sicher Schritt für
  Schritt aus den Hamsterrädern von "Mach mal" und "Selbst und ständig" z
 u entspannt agierenden Unternehmern zu werden und das völlig unabhängig 
 davon\, wer uns für unsere Arbeit bezahlt.\n\n\n.\n  Gudrun Dara Mülle
 r\, Gründerin des Studiennetzwerks für integrative Medizin\n\n(Diplommat
 hematikerin - Heilpraktikerin - Coach für das Spiel des Lebens in der Pra
 xis Selbstheilungsberatung)\n\nstellt ihren Weg vor und lädt dich ein\, i
 hn mit ihr zu gehen.\nSie macht sich auf diesem Weg ihren persönlichen Tr
 aum von klaren Augen wahr.\nMit anderen gemeinsam gestaltet sie ihren gese
 llschaftlichen Traum von sauberem Wasser und einem Netzwerk von Selbstheil
 ungskliniken.\n\nWenn du auf diesem Weg andere mit unterstützen möchtest
 \, sei am Mittwoch beim Start des Organisatoren-Teams in Hamburg dabei:\nh
 ttps://www.mpoint.biz/events/wir-starten-in-eine-neue-zukunft/\nDie Verans
 taltung findet online per Zoom statt.\nLogge dich bitte ab 18:55 Uhr ein\,
  damit wir pünktlich um 19:00 Uhr starten können\, Ende der Veranstaltun
 g ist um 20:30 Uhr.\n\nTeile den Link gern in deinem Freundes- und Bekannt
 enkreis!\n\nGäste sind herzlich willkommen!\n\nLink zum Zoom Call:\n\nhtt
 ps://zoom.us/j/2771632328\n\nMeeting-ID: 277 163 23 28\n\nAlle Teilnehmer 
 sind damit einverstanden\, dass die Veranstaltung per Videomitschnitt aufg
 ezeichnet wird.\nMit deiner Teilnahme am Event erklärst du dich einversta
 nden\, dass die Videomitschnitte öffentlich verwendet und weitergegeben w
 erden dürfen.
ATTACH;FMTTYPE=image/jpeg:https://mpoint.biz/wp-content/uploads/2024/07/wo
 men-3394510_640-3.jpg
CATEGORIES:Mitglied
END:VEVENT
BEGIN:VTIMEZONE
TZID:Europe/Berlin
X-LIC-LOCATION:Europe/Berlin
BEGIN:STANDARD
DTSTART:20201025T020000
TZOFFSETFROM:+0200
TZOFFSETTO:+0100
TZNAME:CET
END:STANDARD
END:VTIMEZONE
END:VCALENDAR