BEGIN:VCALENDAR
VERSION:2.0
PRODID:-//wp-events-plugin.com//6.6.3//EN
TZID:Europe/Berlin
X-WR-TIMEZONE:Europe/Berlin
BEGIN:VEVENT
UID:1470@mpoint.biz
DTSTART;TZID=Europe/Berlin:20240418T190000
DTEND;TZID=Europe/Berlin:20240418T203000
DTSTAMP:20250108T152459Z
URL:https://mpoint.biz/events/rueckblick-realitaet-ausblick-die-wirtschaft
 -in-deutschland-2/
SUMMARY:KI-Kraft voraus: Die europäische KI-Verordnung im Fokus
DESCRIPTION:Trete ein in diese exklusive Veranstaltung unser Kooperationspa
 rtner\, die Friedrich-Naumann-Stiftung\, in der spannende Themenfeld der K
 I genauer beleuchten werden.\n\n\n\n\nVor kurzem wurde die wegweisende eur
 opäische KI-Verordnung verabschiedet - ein Meilenstein in der Geschichte 
 der Technologie-Regulierung weltweit. Doch was bedeutet das genau für die
  Zukunft von KI in Europa und welche Chancen sowie Herausforderungen ergeb
 en sich daraus?\n\nErfahre von führenden Experten wie Prof. Dr. Kerstin P
 rechel\, renommierte Wirtschaftswissenschaftlerin\, und der liberalen Euro
 paabgeordneten Svenja Hahn\, welche Auswirkungen die KI-Verordnung auf Inn
 ovation\, Bürgerschutz und die gesamte Gesellschaft hat.\n\nTauche ein in
  Diskussionen über ethische Fragen der Digitalisierung\, potenzielle Eins
 atzmöglichkeiten von KI in Wirtschaft und Gesellschaft sowie die Rolle de
 r Politik bei der Gestaltung und Regulierung dieser revolutionären Techno
 logie. Erhalte exklusive Einblicke in die Entstehung der KI-Verordnung und
  die damit verbundenen Herausforderungen aus erster Hand.\n\nSei Teil dies
 es wichtigen Dialogs und erfahre\, wie die KI-Verordnung den idealen Rahme
 n zwischen Innovation und Bürgerschutz in Europa schaffen kann. Sicher Di
 r jetzt Deinen Platz und gestalte aktiv die Zukunft der Künstlichen Intel
 ligenz mit!\n\n\n\n\nDiese spannende Veranstaltung ist kostenfrei.\n\nDer 
 Titel der Veranstaltung lautet: “#Reshape Europe: Wieviel Regulierung br
 aucht KI in Europa? Politik zwischen Innovation und Bürgerschutz”.\n\nF
 ür die Teilnahme an diesem Event ist eine Anmeldung auf dem M-POINT Unter
 nehmerportal NICHT ausreichend.\n\nVielmehr ist es unbedingt erforderlich\
 , die Anmeldung beim Veranstalter direkt vorzunehmen.\n\nDen Anmeldeprozes
 s findest Du hier !
ATTACH;FMTTYPE=image/jpeg:https://mpoint.biz/wp-content/uploads/2024/07/M_
 POINT_Kooperation-Ausschnitt-auf-600-px_1000-×-800-px_-1-2.webp
CATEGORIES:Kooperationspartner
LOCATION:Landhaus Walter\, Otto-Wels-Straße 2\, Hamburg\, 22303\, 
GEO:53.5939937;10.015164700000014
X-APPLE-STRUCTURED-LOCATION;VALUE=URI;X-ADDRESS=Otto-Wels-Straße 2\, Hambu
 rg\, 22303\, ;X-APPLE-RADIUS=100;X-TITLE=Landhaus Walter:geo:53.5939937,10
 .015164700000014
END:VEVENT
BEGIN:VTIMEZONE
TZID:Europe/Berlin
X-LIC-LOCATION:Europe/Berlin
BEGIN:DAYLIGHT
DTSTART:20240331T030000
TZOFFSETFROM:+0100
TZOFFSETTO:+0200
TZNAME:CEST
END:DAYLIGHT
END:VTIMEZONE
END:VCALENDAR