BEGIN:VCALENDAR
VERSION:2.0
PRODID:-//wp-events-plugin.com//6.6.3//EN
TZID:Europe/Berlin
X-WR-TIMEZONE:Europe/Berlin
BEGIN:VEVENT
UID:861@mpoint.biz
DTSTART;TZID=Europe/Berlin:20211221T190000
DTEND;TZID=Europe/Berlin:20211221T210000
DTSTAMP:20250108T152347Z
URL:https://mpoint.biz/events/rueckblick-2021-manifestation-2022/
SUMMARY:Rückblick 2021 - Manifestation 2022
DESCRIPTION:2021 stand im Studiennetzwerk für integrative Medizin unter de
 m Motto der Selbstbewusstwerdung.\nJeder war aufgefordert\, sein Selbst zu
  entdecken und sich als Schöpfer und Gestalter des eigenen Lebens zu erfa
 hren.\nDas dort einige Schöpfungen ans Tageslicht gekommen sind\, für di
 e wir uns bewusst so nie entschieden hätten\, ist erwartungskonform.\nDie
  grundlegende Frage war: Welche Veränderung wünscht du dir?\n\nNutze die
  Stunden bis zu diesem Event\, um zurück zu schauen und dir die Frage zu 
 beantworten.\n\nMit diesem Event starten die Raunächte.\nDas sind die Por
 taltage\, die wir für die bewusste Manifestierung des nächsten Jahres nu
 tzen können.\n\nZur Erinnerung:\nSelbst-Heilung ist KEINE Allein-Heilung.
  Es ist eine Beziehungs-Heilung und Gemeinschafts-Heilung\, die wir im Stu
 diennetzwerk für integrative Medizin miteinander gestalten.\nDer Fokus li
 egt dabei auf der Maximierung der Lebensfreude im Miteinander.\n\nWelches 
 Motto wünscht du dir für 2022?\nWas sind deine Ziele für 2022 für unse
 re Beziehung und für die Welt\, in der du lebst\, die du bewusst mit gest
 alten möchtest?\n\nDas Event moderiert:\n\n  Gudrun Dara Müller\, Hei
 lpraktikerin und Begleiterin der Selbstheilung\nPraxis Selbstheilungsberat
 ung\nGründerin des Studiennetzwerks für integrative Medizin\nTeilnahme\n
 Teilnehmer können diesem Zoom-Meeting von einem Computer\, Tablet oder Sm
 artphone aus beitreten:\n\n\nhttps://us02web.zoom.us/j/83167802310?pwd=WDF
 DL3M4YkQ1NE93OUJkZE04Z3B1dz09\n\nMeeting-ID: 831 6780 2310\nKenncode: 9911
 99\n\nDer Meetingraum ist ab 18:45 Uhr zum Ankommen und Kennen lernen geö
 ffnet.\nAufzeichnung\nEs gibt KEINE Aufzeichnung.\nOnline-Vorstellungsrund
 e\nWir freuen uns\, wenn wir den anderen bereits kennen und etwas von ihm 
 wissen\, wenn wir uns im Rahmen des Events begegnen. Da im Event keine Zei
 t für eine große Vorstellungsrunde eingeplant ist\, bitten wir dich:\n\n
 Registriere dich vor der Anmeldung hier kostenfrei über diesen Link im Po
 rtal von M-POINT.\nErzähle uns in deinem Profil das\, was du über dich 
 öffentlich erzählen möchtest!\nMelde dich dann hier bei der Veranstaltu
 ng an:\nDanke
ATTACH;FMTTYPE=image/jpeg:https://mpoint.biz/wp-content/uploads/2024/07/ey
 e-3922207_640.jpg
CATEGORIES:Mitglied
END:VEVENT
BEGIN:VTIMEZONE
TZID:Europe/Berlin
X-LIC-LOCATION:Europe/Berlin
BEGIN:STANDARD
DTSTART:20211031T020000
TZOFFSETFROM:+0200
TZOFFSETTO:+0100
TZNAME:CET
END:STANDARD
END:VTIMEZONE
END:VCALENDAR