BEGIN:VCALENDAR
VERSION:2.0
PRODID:-//wp-events-plugin.com//6.6.3//EN
TZID:Europe/Berlin
X-WR-TIMEZONE:Europe/Berlin
BEGIN:VEVENT
UID:1258@mpoint.biz
DTSTART;TZID=Europe/Berlin:20230509T170000
DTEND;TZID=Europe/Berlin:20230509T183000
DTSTAMP:20250108T152425Z
URL:https://mpoint.biz/events/rotonda-finanztalk-2/
SUMMARY:ROTONDA FINANZTALK
DESCRIPTION:Der ROTONDA BUSINESS CLUB  lädt Euch ein!\n\n Krise oder nich
 t – das Thema Finanzierung spielt für Unternehmen jeder Größe ganz gr
 undsätzlich eine große Rolle. Die aktuellen politischen und geopolitisch
 en Ereignisse führen gleichwohl dazu\, dass viele Unternehmer und unterne
 hmerisch handelnde Personen einen Blick über den üblichen Tellerrand hin
 auswagen\, um neue Finanzierungsmöglichkeiten auszukundschaften.   \
 n\nHierbei möchten wir Ihnen im Rahmen unserer Event-Reihe „Finanz-Talk
 : Alternative Mittelstandsfinanzierung“ die Möglichkeit bieten\, sich 
 über aktuelle Möglichkeiten im KMU-Finanzierungsbereich zu informier
 en sowie mit Experten und Beispielen aus der Praxis in den Dialog zu kom
 men.   \n\nModeration: Thomas Knaack\n\n 	Der Ticketpreis beträgt 1
 9\,00€ für Gäste\n 	Eine kostenfreie Stornierung ist bis zu 48 Stunden
  vor der Veranstaltung möglich\n\nFür die Teilnahme an diesem Event ist 
 eine Anmeldung auf dem M-POINT Unternehmerportal NICHT ausreichend.\n\nVie
 lmehr ist es unbedingt erforderlich die Anmeldung beim Veranstalter direkt
  vorzunehmen.\n\nDen Anmeldeprozess findest Du hier !
ATTACH;FMTTYPE=image/jpeg:https://mpoint.biz/wp-content/uploads/2024/07/KO
 OP-m-ROTONDA.webp
CATEGORIES:Mitglied
END:VEVENT
BEGIN:VTIMEZONE
TZID:Europe/Berlin
X-LIC-LOCATION:Europe/Berlin
BEGIN:DAYLIGHT
DTSTART:20230326T030000
TZOFFSETFROM:+0100
TZOFFSETTO:+0200
TZNAME:CEST
END:DAYLIGHT
END:VTIMEZONE
END:VCALENDAR