BEGIN:VCALENDAR
VERSION:2.0
PRODID:-//wp-events-plugin.com//6.6.3//EN
TZID:Europe/Berlin
X-WR-TIMEZONE:Europe/Berlin
BEGIN:VEVENT
UID:44@mpoint.biz
DTSTART;TZID=Europe/Berlin:20201230T170000
DTEND;TZID=Europe/Berlin:20201230T174500
DTSTAMP:20240701T123933Z
URL:https://mpoint.biz/events/praesentation-navigator-energie-fuer-ein-zus
 aetzliches-einkommen/
SUMMARY:Präsentation "NAVIGATOR-energie" für ein zusätzliches Einkommen
DESCRIPTION:Wie man in den lukrativen Strom- und Gasanbietermarkt einfach n
 ebenbei einsteigen kann !\n\nStarten Sie als Tippgeber und werden dann\, b
 ei Eignung\, VertriebspartnerIn bei NAVIGATOR-energie Service GmbH.\n\nWir
  sprechen über den leichten Einstieg\, Karrieremöglichkeiten und gute Ve
 rdienstchancen.\n\nZoom-Meeting beitreten mit folgendem Link:\n\nhttps://u
 s02web.zoom.us/j/86323173371?pwd=ZFRCdGR5MXVoRTdhK0N6UUhPRi9hUT09\n\n&nbsp
 \;
ATTACH;FMTTYPE=image/jpeg:https://mpoint.biz/wp-content/uploads/2024/07/na
 vigator_kompass.png
END:VEVENT
BEGIN:VTIMEZONE
TZID:Europe/Berlin
X-LIC-LOCATION:Europe/Berlin
BEGIN:STANDARD
DTSTART:20201025T020000
TZOFFSETFROM:+0200
TZOFFSETTO:+0100
TZNAME:CET
END:STANDARD
END:VTIMEZONE
END:VCALENDAR