BEGIN:VCALENDAR
VERSION:2.0
PRODID:-//wp-events-plugin.com//6.6.3//EN
TZID:Europe/Berlin
X-WR-TIMEZONE:Europe/Berlin
BEGIN:VEVENT
UID:642@mpoint.biz
DTSTART;TZID=Europe/Berlin:20220505T090000
DTEND;TZID=Europe/Berlin:20220505T100000
DTSTAMP:20240701T124428Z
URL:https://mpoint.biz/events/orientierungsrunde-basics-fuer-dein-business
 -2/
SUMMARY:Orientierungsrunde – Basics für Dein Business
DESCRIPTION:\n\n&nbsp\;\n\nErste Schritte zu Deinem erfolgreichen Unternehm
 en\n\nmit der Expertin Andrea Weiss https://weiss-web.de/\n\n&nbsp\;\n\nG
 ute Angebote – Gute Geschäfte: Wie Du in nur 3 Schritten Dein unwiderst
 ehliches Angebot kreierst!\n\nDu hast eine Geschäftsidee. Und Du fragst D
 ich wie Du Dein Angebot ausgestalten sollst\, damit Dein Business erfolgre
 ich wird?\n\nDie gute Nachricht ist\, es gibt ein System\, mit dem Du in n
 ur drei Schritten ein Angebot kreieren kannst\, von dem Deine Wunschkunden
  sagen\, dass sie es unbedingt haben müssen.\n\nDu erfährst\, wie Du die
  beste Lösung für Dich und Deine Wunschkunden entwickelst.\n\nNimm wertv
 olle Impulse für Dich mit\, die Dich sofort in die Umsetzung bringen. Sch
 on während der Orientierungsrunde kannst Du erste Ergebnisse notieren.\n\
 nLoggt Euch bitte bereits ab 08:55 Uhr ein\, damit wir pünktlich um 09:00
  Uhr starten können.\n\nZoom-Meeting beitreten\n\nhttps://us02web.zoom.us
 /j/85698256097?pwd=eDVlMHhseXpLVEdKMVF1R1dMWjhndz09\n\n&nbsp\;\n\nMeeting-
 ID: 856 9825 6097\n\nKenncode: 044227
ATTACH;FMTTYPE=image/jpeg:https://mpoint.biz/wp-content/uploads/2024/07/M_
 POINT_Orientierungsrunde-4.webp
END:VEVENT
BEGIN:VTIMEZONE
TZID:Europe/Berlin
X-LIC-LOCATION:Europe/Berlin
BEGIN:DAYLIGHT
DTSTART:20220327T030000
TZOFFSETFROM:+0100
TZOFFSETTO:+0200
TZNAME:CEST
END:DAYLIGHT
END:VTIMEZONE
END:VCALENDAR