BEGIN:VCALENDAR
VERSION:2.0
PRODID:-//wp-events-plugin.com//6.6.3//EN
TZID:Europe/Berlin
X-WR-TIMEZONE:Europe/Berlin
BEGIN:VEVENT
UID:1389@mpoint.biz
DTSTART;TZID=Europe/Berlin:20231107T180000
DTEND;TZID=Europe/Berlin:20231107T200000
DTSTAMP:20250108T152444Z
URL:https://mpoint.biz/events/optimistik-afterwork-2-2/
SUMMARY:OPTIMISTIK AFTERWORK
DESCRIPTION:Einmal im Monat bieten wir zusammen mit dem Club der Optimisten
  (https://clubderoptimisten.de/) ein lockeres AFTERWORK COME TOGETHER an.\
 nDiesmal im CLERMONT\, einer kleinen\, gemütlichen Bar im Mittelweg\,\nin
  der wir uns sowohl drinnen wie draußen aufhalten können..\n\nInteressan
 te Leute\, lockere Gespräche\, Good Vibrations erwarten Euch bei diesem b
 esonderen Netzwerktreffen.\n\nImmer mehr M-POINT-Mitglieder schließen sic
 h an jedem ersten Dienstag im Monat zum OPTIMISTENSCHNACK an.\n\nSei auch 
 Du dabei\, denn Netzwerken lebt bekanntlich vom Mitmachen!\n\nDie Veransta
 ltung ist kostenfrei\, jeder zahlt seinen Verzehr selbst!
ATTACH;FMTTYPE=image/jpeg:https://mpoint.biz/wp-content/uploads/2024/07/Op
 timistic_Afterwork_1000x800-1.webp
CATEGORIES:M-POINT
LOCATION:Berufsbildungszentrum Hamburg\, Braaker Grund 10\, Braak\, 22145\,
  
GEO:53.62245;10.231739999999945
X-APPLE-STRUCTURED-LOCATION;VALUE=URI;X-ADDRESS=Braaker Grund 10\, Braak\, 
 22145\, ;X-APPLE-RADIUS=100;X-TITLE=Berufsbildungszentrum Hamburg:geo:53.6
 2245,10.231739999999945
END:VEVENT
BEGIN:VTIMEZONE
TZID:Europe/Berlin
X-LIC-LOCATION:Europe/Berlin
BEGIN:STANDARD
DTSTART:20231029T020000
TZOFFSETFROM:+0200
TZOFFSETTO:+0100
TZNAME:CET
END:STANDARD
END:VTIMEZONE
END:VCALENDAR