BEGIN:VCALENDAR
VERSION:2.0
PRODID:-//wp-events-plugin.com//6.6.3//EN
TZID:Europe/Berlin
X-WR-TIMEZONE:Europe/Berlin
BEGIN:VEVENT
UID:698@mpoint.biz
DTSTART;TZID=Europe/Berlin:20210205T190000
DTEND;TZID=Europe/Berlin:20210205T203000
DTSTAMP:20250108T152337Z
URL:https://mpoint.biz/events/online-ansteckung-begreifen-party-3-3/
SUMMARY:Online-Ansteckung-Begreifen-Party
DESCRIPTION:Wie wird aus Stress Krankheit und was hat das mit den Viren und
  Genen zu tun?\nDas Stress krank macht\, wissen mittlerweile wohl alle.\nD
 och wie der Stress Viren anzieht und wie aus Stress Krankheit wird\, schei
 nt bisher den wenigsten bewusst gewesen zu sein.\nErfahre wie es möglich 
 ist\, die Physik der Ansteckung so zu nutzen\, dass du andere mit Gesundhe
 it und Glücklich-Sein ansteckst.\nDafür lädt das Studiennetzwerk für i
 ntegrative Medizin zur Online-Ansteckung-Begreifen-Party ein.\nSei bei der
  Online-Ansteckung-Begreifen-Party dabei!\n  Gudrun Dara Müller\, Diplo
 mmathematikerin + Heilerin + spirituelle Lehrerin + Heilpraktikerin + Natu
 rforscherin + Netzwerkerin + Coach für das Spiel des Lebens\nPraxis Selbs
 theilungsberatung\n\nGründerin des Studiennetzwerk für integrative Mediz
 in und Entwicklerin von Heilung als Naturwissenschaft\nist an diesem Abend
  für die Beantwortung von Fragen online.\n\nDiese Treffen sind bis Mitte 
 März für alle frei und kostenlos nutzbar.\nDie Online-Ansteckung-Begreif
 en-Party findet jede Woche am Freitag von 19 bis 20.30 Uhr statt.\nZugangs
 daten\nZoom-Meeting beitreten per Link:\nhttps://us02web.zoom.us/j/8237272
 2195?pwd=d1Fmc1czSndVSzJXNVhVb3kyaGdmUT09\nZoom-Meeting beitreten über di
 e Zoom-App:\nMeeting-ID: 823 7272 2195\nKenncode: 22012021\n\n&nbsp\;\nFü
 r jedes Bedürfnis hat das Leben einen Unternehmer geschaffen!\nDiese find
 est du hier im Unternehmernetzwerk M-Point.\n\nIm Studiennetzwerk für in
 tegrative Medizin legen wir die Basis für ein entspanntes Unternehmer-Sei
 n.\nWir finden im Studiennetzwerk gemeinsam Wege zu nachhaltiger Gesundhei
 t und einem Wohlfühleinkommen.\nAlles was du mehr brauchst\, findest du 
 hier im Unternehmernetzwerk M-Point.\nMelde dich jetzt hier über diesen L
 ink bei M-Point an\, dann öffne ich\, Gudrun Dara Müller\, dir die Tür 
 auf der anderen Seite\, so dass der Einstieg in die Welt der Unternehmer f
 ür dich angenehm und leicht wird.\n\nWeitere Veranstaltungen des Studienn
 etzwerks findest du im Eventarium von M-Point.\n\nDas Studiennetzwerk in s
 einem Entfaltungsprozess findest du hier in der Telegram-Gruppe 'Integrati
 ve Medizin'.\nUnseren Plan B zur Entlastung des Gesundheitssystems.\nIdeal
  für die Menschen\, die Gesundheit begreifen wollen und die Forschung nic
 ht mehr an Unternehmen abgeben wollen\, die ein wirtschaftliches Interesse
  an unserer Krankheit haben. Findest du hier.
ATTACH;FMTTYPE=image/jpeg:https://mpoint.biz/wp-content/uploads/2024/07/an
 steckung-begreifen.jpg
CATEGORIES:Mitglied
END:VEVENT
BEGIN:VTIMEZONE
TZID:Europe/Berlin
X-LIC-LOCATION:Europe/Berlin
BEGIN:STANDARD
DTSTART:20201025T020000
TZOFFSETFROM:+0200
TZOFFSETTO:+0100
TZNAME:CET
END:STANDARD
END:VTIMEZONE
END:VCALENDAR