BEGIN:VCALENDAR
VERSION:2.0
PRODID:-//wp-events-plugin.com//6.6.3//EN
TZID:Europe/Berlin
X-WR-TIMEZONE:Europe/Berlin
BEGIN:VEVENT
UID:506@mpoint.biz
DTSTART;TZID=Europe/Berlin:20200811T080000
DTEND;TZID=Europe/Berlin:20200811T093000
DTSTAMP:20240701T124157Z
URL:https://mpoint.biz/events/online-31-unternehmerfruehstueck-mit-m-point
 -gruender-thomas-goetzinger/
SUMMARY:Online: 31. Unternehmerfrühstück mit M-POINT Gründer Thomas Göt
 zinger
DESCRIPTION:Liebe Teilnehmer des Unternehmerfrühstücks\,\nLiebes Netzwerk
 \, liebe Interessenten\,\n\nauch im Sommermonat August wird das Unternehme
 rfrühstück am Dienstag\, den 11.08. um 8:00 Uhr wieder ONLINE als Zoom-M
 eeting stattfinden.\n\nDirektlink: https://us02web.zoom.us/j/85998257694\n
 \nAnmeldung unter: https://us02web.zoom.us/meeting/register/tZEkfuGqqzwsE9
 D8XCCRHv4pVBnmhmE3nKSy\n\nAn diesem Termin freuen wir uns auf Unternehmer 
 und M-POINT Gründer Thomas Götzinger\, der einen interaktiven Vortrag zu
  diesem Thema halten wird:\n\n"AKQUISE...aber richtig! Wie man ALDI &amp\;
  Co als Kunde gewinnt!"\n\nDer Tag ist voller Chancen\, Nutzen erzeugen\, 
 Mit dem Bauchgefühl zum Erfolg!\n\nWie immer haben auch Sie die Gelegenhe
 it\, sich und Ihr Unternehmen in einer 60-Sekunden-Präsentation vorzustel
 len.\n\nWir freuen uns über Ihre Anmeldung! Sie können diese Einladung g
 erne an interessierte Unternehmer*innen weitergeben.\n\nKosten: Die Verans
 taltung ist kostenlos.\n\nBis dahin sende ich Ihnen herzliche Grüße. Ble
 iben Sie gesund!\n\nMarco Hauschild
ATTACH;FMTTYPE=image/jpeg:https://mpoint.biz/wp-content/uploads/2024/07/Un
 ternehmerfruehstueck_Logo_RZ_01.png
END:VEVENT
BEGIN:VTIMEZONE
TZID:Europe/Berlin
X-LIC-LOCATION:Europe/Berlin
BEGIN:DAYLIGHT
DTSTART:20200329T030000
TZOFFSETFROM:+0100
TZOFFSETTO:+0200
TZNAME:CEST
END:DAYLIGHT
END:VTIMEZONE
END:VCALENDAR