BEGIN:VCALENDAR
VERSION:2.0
PRODID:-//wp-events-plugin.com//6.6.3//EN
TZID:Europe/Berlin
X-WR-TIMEZONE:Europe/Berlin
BEGIN:VEVENT
UID:569@mpoint.biz
DTSTART;TZID=Europe/Berlin:20210212T103000
DTEND;TZID=Europe/Berlin:20210212T111500
DTSTAMP:20240701T124314Z
URL:https://mpoint.biz/events/nachfolge-leicht-gemacht/
SUMMARY:Nachfolge leicht gemacht
DESCRIPTION:"Nachfolge leicht gemacht"\n\nDas Thema Nachfolge bewegt alle\;
  vom Eigentümer bis zum Personaler.\nWir\, Bernd Nielsen und ich\, sprech
 en "easy peasy" über alles\, was dazugehört. Verständlich\, nützlich u
 nd eingebettet in Humor.\n\nSei dabei. Es lohnt sich. :)\n\nHier geht´s z
 ur Veranstaltung.\nhttps://us02web.zoom.us/j/86293825659?pwd=SDZkWWlyVHFBK
 2VoTTcvMjl2UEJaZz09\n\n&nbsp\;\n\nWir freuen uns auf Dich.\nKristin &amp\;
  Bernd
ATTACH;FMTTYPE=image/jpeg:https://mpoint.biz/wp-content/uploads/2024/07/Fi
 sch.jpg
END:VEVENT
BEGIN:VTIMEZONE
TZID:Europe/Berlin
X-LIC-LOCATION:Europe/Berlin
BEGIN:STANDARD
DTSTART:20201025T020000
TZOFFSETFROM:+0200
TZOFFSETTO:+0100
TZNAME:CET
END:STANDARD
END:VTIMEZONE
END:VCALENDAR