BEGIN:VCALENDAR
VERSION:2.0
PRODID:-//wp-events-plugin.com//6.6.3//EN
TZID:Europe/Berlin
X-WR-TIMEZONE:Europe/Berlin
BEGIN:VEVENT
UID:1472@mpoint.biz
DTSTART;TZID=Europe/Berlin:20240421T113000
DTEND;TZID=Europe/Berlin:20240421T150000
DTSTAMP:20250108T152459Z
URL:https://mpoint.biz/events/matinee-des-papillons-benefiz-brunch-zugunst
 en-der-deutschen-muskelschwund-hilfe-e-v-2/
SUMMARY:Matinée des Papillons - Benefiz-Brunch zugunsten der Deutschen Mus
 kelschwund-Hilfe e.V.
DESCRIPTION:Am Sonntag\, den 21. April 2024\, veranstaltet das Hotel Atlant
 ic Hamburg einen Benefiz-Brunch zugunsten der Deutschen Muskelschwund-Hilf
 e e.V. (DMH).\n\nLassen Sie sich von den Köchinnen\, Köchen und Patissie
 rs des Atlantic mit einem vielfältigen Brunch-Buffet verwöhnen. Serviert
  werden exquisite regionale wie internationale herzhafte Delikatessen und 
 süße Verführungen. Zur Begrüßung wird Champagner gereicht\; Wein\, Bi
 er\, Wasser\, Soft- sowie Heißgetränke sind ebenfalls im Preis von 129 E
 uro pro Person enthalten.\n\nZehn Euro pro Karte spendet das Atlantic an d
 ie Deutsche Muskelschwund-Hilfe. Darüber hinaus lockt eine Tombola mit ho
 chkarätigen Preisen\, deren Erlös zu 100% der DMH zugutekommt.\n\nEgal o
 b Sie mit der Familie kommen oder die Veranstaltung mit Kolleg*innen oder 
 Geschäftspartner*innen besuchen - es lohnt sich.\n\nTickets sind unter fo
 lgendem Link erhältlich:  https://bit.ly/matinee-papillons\n\nInformatio
 nen zur Deutschen Muskelschwund-Hilfe finden Sie unter www.muskelschwund.d
 e
ATTACH;FMTTYPE=image/jpeg:https://mpoint.biz/wp-content/uploads/2024/07/Ma
 tinee-Papillon-Banner-1-scaled-1.webp
CATEGORIES:Mitglied
LOCATION:Landhaus Walter\, Otto-Wels-Straße 2\, Hamburg\, 22303\, 
GEO:53.5939937;10.015164700000014
X-APPLE-STRUCTURED-LOCATION;VALUE=URI;X-ADDRESS=Otto-Wels-Straße 2\, Hambu
 rg\, 22303\, ;X-APPLE-RADIUS=100;X-TITLE=Landhaus Walter:geo:53.5939937,10
 .015164700000014
END:VEVENT
BEGIN:VTIMEZONE
TZID:Europe/Berlin
X-LIC-LOCATION:Europe/Berlin
BEGIN:DAYLIGHT
DTSTART:20240331T030000
TZOFFSETFROM:+0100
TZOFFSETTO:+0200
TZNAME:CEST
END:DAYLIGHT
END:VTIMEZONE
END:VCALENDAR