BEGIN:VCALENDAR
VERSION:2.0
PRODID:-//wp-events-plugin.com//6.6.3//EN
TZID:Europe/Berlin
X-WR-TIMEZONE:Europe/Berlin
BEGIN:VEVENT
UID:1520@mpoint.biz
DTSTART;TZID=Europe/Berlin:20240822T093000
DTEND;TZID=Europe/Berlin:20240823T133000
DTSTAMP:20250108T152509Z
URL:https://mpoint.biz/events/marketing-power-mit-chatgpt-2-2/
SUMMARY:Marketing-Power mit ChatGPT
DESCRIPTION:Bist du es leid\, dass dich deine Marketingaufgaben ständig un
 ter Druck setzen? Verkaufstexte\, Newsletter\, Blog und Social Media raube
 n dir nicht nur Zeit\, sondern auch den letzten Nerv? Du weißt\, dass Cha
 tGPT dir viele Aufgaben abnehmen könnte\, aber bisher passt nichts richti
 g zusammen. Deine Ergebnisse bleiben hinter deinen Erwartungen zurück und
  das frustriert dich.\n\nStell dir vor\, du könntest dein Marketing effiz
 ient und mit Spaß erledigen.\n\nIm Workshop lernst du\, wie’s geht!\n\n
 Wir treffen uns am 22. &amp\; 23. August um 9.30 Uhr jeweils für 4 Stunde
 n live auf Zoom. Du bekommst von mir das „Gewusst-wie“\, um dann direk
 t in die Umsetzung zu gehen.\n\nNach dem Workshop hast du ein fertiges Sys
 tem\, das zu dir und deinem Business passt. Deine Marketing-Aufgaben gehen
  dir leicht von der Hand. Du hast wieder mehr Zeit für die Dinge\, die di
 r wichtig sind.\n\n  Nutze diese Chance und melde dich jetzt an!\n\n  http
 s://marketingpower-chatgpt.funnelcockpit.com/start/
ATTACH;FMTTYPE=image/jpeg:https://mpoint.biz/wp-content/uploads/2024/12/Ma
 rketing-Power-mit-ChatGPT-August24-M-Point.webp
CATEGORIES:Mitglied
END:VEVENT
BEGIN:VTIMEZONE
TZID:Europe/Berlin
X-LIC-LOCATION:Europe/Berlin
BEGIN:DAYLIGHT
DTSTART:20240331T030000
TZOFFSETFROM:+0100
TZOFFSETTO:+0200
TZNAME:CEST
END:DAYLIGHT
END:VTIMEZONE
END:VCALENDAR