BEGIN:VCALENDAR
VERSION:2.0
PRODID:-//wp-events-plugin.com//6.6.3//EN
TZID:Europe/Berlin
X-WR-TIMEZONE:Europe/Berlin
BEGIN:VEVENT
UID:1202@mpoint.biz
DTSTART;TZID=Europe/Berlin:20230413T120000
DTEND;TZID=Europe/Berlin:20230413T124500
DTSTAMP:20250108T152418Z
URL:https://mpoint.biz/events/m-point-talkt-mit-herrn-dr-gregor-krah/
SUMMARY:M-POINT RAT & TAT! …mit Herrn Dr. Gregor Krah
DESCRIPTION:M-POINT RAT &amp\; TAT! Diesmal im Gespräch der Experte für C
 ybersicherheit Dr. Gregor Krah von GK IT-Systems!\n\nBeim Call am DONNERST
 AG\, den 23.03.23\, von 12.00 Uhr bis 12:45 Uhr geht es natürlich um das 
 große Thema Sicherheit im Netz\, die Überschrift dazu lautet: „BUSINES
 S RISK CYBERSECURITY!“.\n\nDas Geschäft von Cyberkriminellen hat sich i
 n den letzten Jahren professionalisiert und das Vorgehen der Täter ist ni
 cht vorhersehbar.\n\nEs stellt sich nicht mehr die Frage\, ob Dein Unterne
 hmen Opfer einer Cyberattacke wird\, sondern wann es passiert.\n\nVon dahe
 r geht es ganz wesentlich um die Prävention und vor allem Detektion von C
 yberangriffen und dazu gibt es sehr wertvollen Rat &amp\; Tipps vom Expert
 en.\n\nWährend des Zoomcalls besteht die Gelegenheit\, auch Deine Fragen 
 im Live-Chat zu stellen.\n\nZoom-Meeting beitreten\nhttps://us02web.zoom.u
 s/j/89883142980?pwd=TmpNbEVsWnV1dlVSaW42ck84N0tBUT09\n\nMeeting-ID: 898 83
 14 2980\nKenncode: 344576\nAlle Teilnehmer der digitalen Events sind damit
  einverstanden\, dass die Veranstaltungen per Videomitschnitt aufgezeichne
 t werden. Mit Deiner Teilnahme am Event erklärst Du Dich einverstanden\, 
 dass die Videomitschnitte vom Unternehmernetzwerk M-POINT für werbliche Z
 wecke genutzt werden dürfen.
ATTACH;FMTTYPE=image/jpeg:https://mpoint.biz/wp-content/uploads/2024/07/Gr
 egor-Krah500-×-600-px-1000-×-800-px.webp
CATEGORIES:M-POINT
END:VEVENT
BEGIN:VTIMEZONE
TZID:Europe/Berlin
X-LIC-LOCATION:Europe/Berlin
BEGIN:DAYLIGHT
DTSTART:20230326T030000
TZOFFSETFROM:+0100
TZOFFSETTO:+0200
TZNAME:CEST
END:DAYLIGHT
END:VTIMEZONE
END:VCALENDAR