BEGIN:VCALENDAR
VERSION:2.0
PRODID:-//wp-events-plugin.com//6.6.3//EN
TZID:Europe/Berlin
X-WR-TIMEZONE:Europe/Berlin
BEGIN:VEVENT
UID:1150@mpoint.biz
DTSTART;TZID=Europe/Berlin:20221208T120000
DTEND;TZID=Europe/Berlin:20221208T124500
DTSTAMP:20250108T152411Z
URL:https://mpoint.biz/events/m-point-talkt-auf-den-punkt-gebracht-live-au
 s-der-kammer-2/
SUMMARY:M-POINT TALKT! AUF DEN PUNKT GEBRACHT! - LIVE aus der Kammer!
DESCRIPTION:Am Donnerstagmittag\, den 08.12.2022 ist es wieder soweit!\n\nW
 ir senden LIVE aus der Handelskammer Hamburg mit unserem Format "M-POINT T
 ALKT! AUF DEN PUNKT GEBRACHT!”.\n\nIm Gespräch zwischen dem Hauptgesch
 äftsführer der Handelskammer\, Herrn Dr. Malte Heyne und unserem Netzwer
 kgründer Thomas Götzinger wird es auch um die Frage gehen\, was eine COS
 CO-Beteiligung am Hafen für uns Selbständige und Kleinunternehmer bedeut
 et.\n\nDenn eine permanente Elbvertiefung hat nun mal auch einen massiven 
 ökologischen Einfluss auf uns alle.\n\nSchalte Dich doch gerne zu und ste
 lle Deine Fragen und verschaffe Dir Gehör. Denn Du bist ein Teil der HAMB
 URGER WIRTSCHAFT!\n\nZOOM-Zugangsdaten:\n\nhttps://us02web.zoom.us/j/82945
 111438?pwd=cUhSTnM4Nm9JYUxPeVpXNkJmYnZEQT09\n\n&nbsp\;\n\nMeeting-ID: 829 
 4511 1438\n\nKenncode: 288172\n\nLogge Dich bitte ab 11:55 Uhr ein\, damit
  wir pünktlich um 12:00 Uhr starten können.\n\n&nbsp\;\n\nDie ersten 50 
 angemeldeten Mitglieder sind per Zoom-Call live dabei und können ihre Fra
 gen direkt im Chat stellen.\n\nFür alle\, die keinen Platz bekommen haben
 \, wird es einen YouTube-Stream geben.\n\nDu kannst dann zuhören und zusc
 hauen\, aber keine Fragen stellen.\n\n&nbsp\;\n\nAlle Teilnehmer der digit
 alen Events sind damit einverstanden\, dass die Veranstaltungen per Videom
 itschnitt aufgezeichnet werden. Mit Deiner Teilnahme am Event erklärst Du
  Dich einverstanden\, dass die Videomitschnitte vom Unternehmernetzwerk M-
 POINT für werbliche Zwecke genutzt werden dürfen.
ATTACH;FMTTYPE=image/jpeg:https://mpoint.biz/wp-content/uploads/2024/07/Dr
 ._Heyne_TG._Extragrafik_folgt_nach_Freigabe_f._EVENTARIUM.webp
CATEGORIES:M-POINT
END:VEVENT
BEGIN:VTIMEZONE
TZID:Europe/Berlin
X-LIC-LOCATION:Europe/Berlin
BEGIN:STANDARD
DTSTART:20221030T020000
TZOFFSETFROM:+0200
TZOFFSETTO:+0100
TZNAME:CET
END:STANDARD
END:VTIMEZONE
END:VCALENDAR