BEGIN:VCALENDAR
VERSION:2.0
PRODID:-//wp-events-plugin.com//6.6.3//EN
TZID:Europe/Berlin
X-WR-TIMEZONE:Europe/Berlin
BEGIN:VEVENT
UID:641@mpoint.biz
DTSTART;TZID=Europe/Berlin:20220421T090000
DTEND;TZID=Europe/Berlin:20220421T100000
DTSTAMP:20240701T124428Z
URL:https://mpoint.biz/events/m-point-orientierungsrunde-basics-fuer-dein-
 business-3/
SUMMARY:M-POINT Orientierungsrunde – Basics für dein Business
DESCRIPTION:\n\nErste Schritte zu Deinem erfolgreichen Unternehmen\n\nmit d
 er Expertin Andrea Weiss https://weiss-web.de/\n\n&nbsp\;\n\nMach Dein An
 gebot sichtbar: Wie Du Aufmerksamkeit bei den richtigen Kunden erzielst 
 – ganz ohne Dich zu verausgaben!\n\nSichtbarkeit ist die neue Währung. 
 Auch das beste Angebot findet nicht den Weg zum Kunden\, wenn es keiner ke
 nnt.\n\nDoch nicht alle Möglichkeiten\, die es im Marketing gibt\, passen
  auch zu Dir und Deinem Business.\n\nIn dieser Orientierungsrunde schauen 
 wir uns die verschiedenen Möglichkeiten an. Du erfährst\, wie Du bei der
  Auswahl vorgehen kannst und in die Umsetzung kommst. Du lernst\, den Mehr
 wert Deines Angebotes charmant und selbstbewusst zu kommunizieren.\n\nNimm
  wertvolle Impulse für Dich mit\, die Dich sofort in die Umsetzung bringe
 n. Schon während des Kursus kannst Du erste Ergebnisse notieren.\n\n&nbsp
 \;\n\nLoggt Euch bitte bereits ab 08:55 Uhr ein\, damit wir pünktlich um 
 09:00 Uhr starten können.\n\nZoom-Meeting beitreten\n\nhttps://us02web.zo
 om.us/j/85698256097?pwd=eDVlMHhseXpLVEdKMVF1R1dMWjhndz09\n\n&nbsp\;\n\nMee
 ting-ID: 856 9825 6097\n\nKenncode: 044227
ATTACH;FMTTYPE=image/jpeg:https://mpoint.biz/wp-content/uploads/2024/07/M_
 POINT_Orientierungsrunde-3.webp
END:VEVENT
BEGIN:VTIMEZONE
TZID:Europe/Berlin
X-LIC-LOCATION:Europe/Berlin
BEGIN:DAYLIGHT
DTSTART:20220327T030000
TZOFFSETFROM:+0100
TZOFFSETTO:+0200
TZNAME:CEST
END:DAYLIGHT
END:VTIMEZONE
END:VCALENDAR